BEGIN:VCALENDAR
VERSION:2.0
PRODID:-//AusschreibungsRadar//Timeline//DE
CALSCALE:GREGORIAN
METHOD:PUBLISH
X-WR-CALNAME:Projekt Skaterpark Borna-Ost - BA 1.2 - BA 2 Fortführung; Los 1 Erri
X-WR-TIMEZONE:Europe/Berlin
BEGIN:VEVENT
UID:c624f766bf084b73@ausschreibungsradar.com
DTSTAMP:20260425T185925Z
DTSTART;VALUE=DATE:20260107
DTEND;VALUE=DATE:20260107
SUMMARY:Ausschreibung — Skaterpark Borna-Ost - BA 1.2 - BA 2 Fortführung\; Los 1 Erri
DESCRIPTION:Phase: Ausschreibung | Beschreibung: Offizielle Ausschreibung mit Bieterfrist. | Link: https://ausschreibungsradar.com/ausschreibung/24840200/
URL:https://ausschreibungsradar.com/ausschreibung/24840200/
END:VEVENT
BEGIN:VEVENT
UID:6bd6e39e5059dcdd@ausschreibungsradar.com
DTSTAMP:20260425T185925Z
DTSTART;VALUE=DATE:20260116
DTEND;VALUE=DATE:20260116
SUMMARY:Ausschreibung — Skaterpark Borna-Ost - BA 1.2 - BA 2 Fortführung\; Los 1 Erri
DESCRIPTION:Phase: Ausschreibung | Beschreibung: Offizielle Ausschreibung mit Bieterfrist. | Link: https://ausschreibungsradar.com/ausschreibung/24874538/
URL:https://ausschreibungsradar.com/ausschreibung/24874538/
END:VEVENT
END:VCALENDAR
