BEGIN:VCALENDAR
VERSION:2.0
PRODID:-//AusschreibungsRadar//Timeline//DE
CALSCALE:GREGORIAN
METHOD:PUBLISH
X-WR-CALNAME:Projekt Neubau Kindergarten Hooge Riege
X-WR-TIMEZONE:Europe/Berlin
BEGIN:VEVENT
UID:17514a604eadffd6@ausschreibungsradar.com
DTSTAMP:20260424T042737Z
DTSTART;VALUE=DATE:20260112
DTEND;VALUE=DATE:20260112
SUMMARY:Ausschreibung — Neubau Kindergarten Hooge Riege
DESCRIPTION:Phase: Ausschreibung | Beschreibung: Offizielle Ausschreibung mit Bieterfrist. | Link: https://ausschreibungsradar.com/ausschreibung/24853726/
URL:https://ausschreibungsradar.com/ausschreibung/24853726/
END:VEVENT
BEGIN:VEVENT
UID:4348b4e445849264@ausschreibungsradar.com
DTSTAMP:20260424T042737Z
DTSTART;VALUE=DATE:20260112
DTEND;VALUE=DATE:20260112
SUMMARY:Ausschreibung — Neubau Kindergarten Hooge Riege
DESCRIPTION:Phase: Ausschreibung | Beschreibung: Offizielle Ausschreibung mit Bieterfrist. | Link: https://ausschreibungsradar.com/ausschreibung/24853702/
URL:https://ausschreibungsradar.com/ausschreibung/24853702/
END:VEVENT
BEGIN:VEVENT
UID:23460c6e0a76d289@ausschreibungsradar.com
DTSTAMP:20260424T042737Z
DTSTART;VALUE=DATE:20260120
DTEND;VALUE=DATE:20260120
SUMMARY:Ausschreibung — Neubau Kindergarten Hooge Riege
DESCRIPTION:Phase: Ausschreibung | Beschreibung: Offizielle Ausschreibung mit Bieterfrist. | Link: https://ausschreibungsradar.com/ausschreibung/24883788/
URL:https://ausschreibungsradar.com/ausschreibung/24883788/
END:VEVENT
END:VCALENDAR
