BEGIN:VCALENDAR
VERSION:2.0
PRODID:-//AusschreibungsRadar//Timeline//DE
CALSCALE:GREGORIAN
METHOD:PUBLISH
X-WR-CALNAME:Projekt A40, Verkehrsssicherung
X-WR-TIMEZONE:Europe/Berlin
BEGIN:VEVENT
UID:b2c8d18f1df4dad9@ausschreibungsradar.com
DTSTAMP:20260425T171349Z
DTSTART;VALUE=DATE:20260113
DTEND;VALUE=DATE:20260113
SUMMARY:Ausschreibung — A40\, Verkehrsssicherung
DESCRIPTION:Phase: Ausschreibung | Beschreibung: Offizielle Ausschreibung mit Bieterfrist. | Link: https://ausschreibungsradar.com/ausschreibung/24860368/
URL:https://ausschreibungsradar.com/ausschreibung/24860368/
END:VEVENT
BEGIN:VEVENT
UID:cdcefa50860a170a@ausschreibungsradar.com
DTSTAMP:20260425T171349Z
DTSTART;VALUE=DATE:20260205
DTEND;VALUE=DATE:20260205
SUMMARY:Ausschreibung — A40\, Verkehrsssicherung
DESCRIPTION:Phase: Ausschreibung | Beschreibung: Offizielle Ausschreibung mit Bieterfrist. | Link: https://ausschreibungsradar.com/ausschreibung/24955268/
URL:https://ausschreibungsradar.com/ausschreibung/24955268/
END:VEVENT
END:VCALENDAR
