BEGIN:VCALENDAR
VERSION:2.0
PRODID:-//AusschreibungsRadar//Timeline//DE
CALSCALE:GREGORIAN
METHOD:PUBLISH
X-WR-CALNAME:Projekt Dachsanierung Kita Forststraße - Los 501 Tiefbauarbeiten
X-WR-TIMEZONE:Europe/Berlin
BEGIN:VEVENT
UID:26603f67e24cbc07@ausschreibungsradar.com
DTSTAMP:20260425T042208Z
DTSTART;VALUE=DATE:20260114
DTEND;VALUE=DATE:20260114
SUMMARY:Ausschreibung — Dachsanierung Kita Forststraße - Los 501 Tiefbauarbeiten
DESCRIPTION:Phase: Ausschreibung | Beschreibung: Offizielle Ausschreibung mit Bieterfrist. | Link: https://ausschreibungsradar.com/ausschreibung/24864320/
URL:https://ausschreibungsradar.com/ausschreibung/24864320/
END:VEVENT
BEGIN:VEVENT
UID:be021047b6280439@ausschreibungsradar.com
DTSTAMP:20260425T042208Z
DTSTART;VALUE=DATE:20260213
DTEND;VALUE=DATE:20260213
SUMMARY:Ausschreibung — Dachsanierung Kita Forststraße - Los 501 Tiefbauarbeiten
DESCRIPTION:Phase: Ausschreibung | Beschreibung: Offizielle Ausschreibung mit Bieterfrist. | Link: https://ausschreibungsradar.com/ausschreibung/24989250/
URL:https://ausschreibungsradar.com/ausschreibung/24989250/
END:VEVENT
END:VCALENDAR
