BEGIN:VCALENDAR
VERSION:2.0
PRODID:-//AusschreibungsRadar//Timeline//DE
CALSCALE:GREGORIAN
METHOD:PUBLISH
X-WR-CALNAME:Projekt LOS 1 Gerüstbauarbeiten - Sanierung Wohnblock in der Graal-M
X-WR-TIMEZONE:Europe/Berlin
BEGIN:VEVENT
UID:08ec1e535e07bb3f@ausschreibungsradar.com
DTSTAMP:20260424T032355Z
DTSTART;VALUE=DATE:20260115
DTEND;VALUE=DATE:20260115
SUMMARY:Zuschlag — LOS 1 Gerüstbauarbeiten - Sanierung Wohnblock in der Graal-M
DESCRIPTION:Phase: Zuschlag | Beschreibung: Vergabeergebnis — Auftrag wurde erteilt oder Verfahren beendet. | Link: https://ausschreibungsradar.com/ausschreibung/24869230/
URL:https://ausschreibungsradar.com/ausschreibung/24869230/
END:VEVENT
BEGIN:VEVENT
UID:91c892f58238ea78@ausschreibungsradar.com
DTSTAMP:20260424T032355Z
DTSTART;VALUE=DATE:20260115
DTEND;VALUE=DATE:20260115
SUMMARY:Zuschlag — LOS 1 Gerüstbauarbeiten - Sanierung Wohnblock in der Graal-M
DESCRIPTION:Phase: Zuschlag | Beschreibung: Vergabeergebnis — Auftrag wurde erteilt oder Verfahren beendet. | Link: https://ausschreibungsradar.com/ausschreibung/24869234/
URL:https://ausschreibungsradar.com/ausschreibung/24869234/
END:VEVENT
BEGIN:VEVENT
UID:f008c50c8326f0b2@ausschreibungsradar.com
DTSTAMP:20260424T032355Z
DTSTART;VALUE=DATE:20260120
DTEND;VALUE=DATE:20260120
SUMMARY:Zuschlag — LOS 1 Gerüstbauarbeiten - Sanierung Wohnblock in der Graal-M
DESCRIPTION:Phase: Zuschlag | Beschreibung: Vergabeergebnis — Auftrag wurde erteilt oder Verfahren beendet. | Link: https://ausschreibungsradar.com/ausschreibung/24885846/
URL:https://ausschreibungsradar.com/ausschreibung/24885846/
END:VEVENT
BEGIN:VEVENT
UID:22adee52a5c19bd4@ausschreibungsradar.com
DTSTAMP:20260424T032355Z
DTSTART;VALUE=DATE:20260129
DTEND;VALUE=DATE:20260129
SUMMARY:Zuschlag — LOS 1 Gerüstbauarbeiten - Sanierung Wohnblock in der Graal-M
DESCRIPTION:Phase: Zuschlag | Beschreibung: Vergabeergebnis — Auftrag wurde erteilt oder Verfahren beendet. | Link: https://ausschreibungsradar.com/ausschreibung/24924924/
URL:https://ausschreibungsradar.com/ausschreibung/24924924/
END:VEVENT
END:VCALENDAR
