BEGIN:VCALENDAR
VERSION:2.0
PRODID:-//AusschreibungsRadar//Timeline//DE
CALSCALE:GREGORIAN
METHOD:PUBLISH
X-WR-CALNAME:Projekt Durchführung der Führerscheinausbildung der Klasse C und des
X-WR-TIMEZONE:Europe/Berlin
BEGIN:VEVENT
UID:130d49e014fca74b@ausschreibungsradar.com
DTSTAMP:20260424T133034Z
DTSTART;VALUE=DATE:20260115
DTEND;VALUE=DATE:20260115
SUMMARY:Ausschreibung — Durchführung der Führerscheinausbildung der Klasse C und des
DESCRIPTION:Phase: Ausschreibung | Beschreibung: Offizielle Ausschreibung mit Bieterfrist. | Link: https://ausschreibungsradar.com/ausschreibung/24870106/
URL:https://ausschreibungsradar.com/ausschreibung/24870106/
END:VEVENT
BEGIN:VEVENT
UID:c37ad798026b1d02@ausschreibungsradar.com
DTSTAMP:20260424T133034Z
DTSTART;VALUE=DATE:20260116
DTEND;VALUE=DATE:20260116
SUMMARY:Ausschreibung — Durchführung der Führerscheinausbildung der Klasse C und des
DESCRIPTION:Phase: Ausschreibung | Beschreibung: Offizielle Ausschreibung mit Bieterfrist. | Link: https://ausschreibungsradar.com/ausschreibung/24872800/
URL:https://ausschreibungsradar.com/ausschreibung/24872800/
END:VEVENT
END:VCALENDAR
