BEGIN:VCALENDAR
VERSION:2.0
PRODID:-//AusschreibungsRadar//Timeline//DE
CALSCALE:GREGORIAN
METHOD:PUBLISH
X-WR-CALNAME:Projekt Raumlufttechnik zum Bauvorhaben:  Umbau und Erweiterung der 
X-WR-TIMEZONE:Europe/Berlin
BEGIN:VEVENT
UID:6b75b4a924476382@ausschreibungsradar.com
DTSTAMP:20260425T104334Z
DTSTART;VALUE=DATE:20260120
DTEND;VALUE=DATE:20260120
SUMMARY:Ausschreibung — Raumlufttechnik zum Bauvorhaben:  Umbau und Erweiterung der 
DESCRIPTION:Phase: Ausschreibung | Beschreibung: Offizielle Ausschreibung mit Bieterfrist. | Link: https://ausschreibungsradar.com/ausschreibung/24889734/
URL:https://ausschreibungsradar.com/ausschreibung/24889734/
END:VEVENT
BEGIN:VEVENT
UID:4a203e53b1f146ee@ausschreibungsradar.com
DTSTAMP:20260425T104334Z
DTSTART;VALUE=DATE:20260120
DTEND;VALUE=DATE:20260120
SUMMARY:Ausschreibung — Raumlufttechnik zum Bauvorhaben:  Umbau und Erweiterung der 
DESCRIPTION:Phase: Ausschreibung | Beschreibung: Offizielle Ausschreibung mit Bieterfrist. | Link: https://ausschreibungsradar.com/ausschreibung/24889738/
URL:https://ausschreibungsradar.com/ausschreibung/24889738/
END:VEVENT
END:VCALENDAR
