BEGIN:VCALENDAR
VERSION:2.0
PRODID:-//AusschreibungsRadar//Timeline//DE
CALSCALE:GREGORIAN
METHOD:PUBLISH
X-WR-CALNAME:Projekt Neubau Feuerwehrgebäude Hohen Sprenz
X-WR-TIMEZONE:Europe/Berlin
BEGIN:VEVENT
UID:b6088696f39cf79c@ausschreibungsradar.com
DTSTAMP:20260424T035009Z
DTSTART;VALUE=DATE:20260205
DTEND;VALUE=DATE:20260205
SUMMARY:Ausschreibung — Neubau Feuerwehrgebäude Hohen Sprenz
DESCRIPTION:Phase: Ausschreibung | Beschreibung: Offizielle Ausschreibung mit Bieterfrist. | Link: https://ausschreibungsradar.com/ausschreibung/24951856/
URL:https://ausschreibungsradar.com/ausschreibung/24951856/
END:VEVENT
BEGIN:VEVENT
UID:8e783e307d9383f7@ausschreibungsradar.com
DTSTAMP:20260424T035009Z
DTSTART;VALUE=DATE:20260205
DTEND;VALUE=DATE:20260205
SUMMARY:Ausschreibung — Neubau Feuerwehrgebäude Hohen Sprenz
DESCRIPTION:Phase: Ausschreibung | Beschreibung: Offizielle Ausschreibung mit Bieterfrist. | Link: https://ausschreibungsradar.com/ausschreibung/24951860/
URL:https://ausschreibungsradar.com/ausschreibung/24951860/
END:VEVENT
END:VCALENDAR
