BEGIN:VCALENDAR
VERSION:2.0
PRODID:-//AusschreibungsRadar//Timeline//DE
CALSCALE:GREGORIAN
METHOD:PUBLISH
X-WR-CALNAME:Projekt Ausbau Photovoltaikanlagen Dach Geb.17 +18
X-WR-TIMEZONE:Europe/Berlin
BEGIN:VEVENT
UID:ebd50888b3203513@ausschreibungsradar.com
DTSTAMP:20260424T103546Z
DTSTART;VALUE=DATE:20260205
DTEND;VALUE=DATE:20260205
SUMMARY:Ausschreibung — Ausbau Photovoltaikanlagen Dach Geb.17 +18
DESCRIPTION:Phase: Ausschreibung | Beschreibung: Offizielle Ausschreibung mit Bieterfrist. | Link: https://ausschreibungsradar.com/ausschreibung/24955308/
URL:https://ausschreibungsradar.com/ausschreibung/24955308/
END:VEVENT
BEGIN:VEVENT
UID:40cd6cc4158f9de7@ausschreibungsradar.com
DTSTAMP:20260424T103546Z
DTSTART;VALUE=DATE:20260205
DTEND;VALUE=DATE:20260205
SUMMARY:Ausschreibung — Ausbau Photovoltaikanlagen Dach Geb.17 +18
DESCRIPTION:Phase: Ausschreibung | Beschreibung: Offizielle Ausschreibung mit Bieterfrist. | Link: https://ausschreibungsradar.com/ausschreibung/24957884/
URL:https://ausschreibungsradar.com/ausschreibung/24957884/
END:VEVENT
END:VCALENDAR
