BEGIN:VCALENDAR
VERSION:2.0
PRODID:-//AusschreibungsRadar//Timeline//DE
CALSCALE:GREGORIAN
METHOD:PUBLISH
X-WR-CALNAME:Projekt 3.8 Herstellung Grünanlage Göltzschplatz und Göltzschbrücke
X-WR-TIMEZONE:Europe/Berlin
BEGIN:VEVENT
UID:5a4139e8ee8006a5@ausschreibungsradar.com
DTSTAMP:20260425T140655Z
DTSTART;VALUE=DATE:20260127
DTEND;VALUE=DATE:20260127
SUMMARY:Ausschreibung — 3.8 Herstellung Grünanlage Göltzschplatz und Göltzschbrücke
DESCRIPTION:Phase: Ausschreibung | Beschreibung: Offizielle Ausschreibung mit Bieterfrist. | Link: https://ausschreibungsradar.com/ausschreibung/24914026/
URL:https://ausschreibungsradar.com/ausschreibung/24914026/
END:VEVENT
BEGIN:VEVENT
UID:50d9250bbcdce42e@ausschreibungsradar.com
DTSTAMP:20260425T140655Z
DTSTART;VALUE=DATE:20260206
DTEND;VALUE=DATE:20260206
SUMMARY:Ausschreibung — 3.8 Herstellung Grünanlage Göltzschplatz und Göltzschbrücke
DESCRIPTION:Phase: Ausschreibung | Beschreibung: Offizielle Ausschreibung mit Bieterfrist. | Link: https://ausschreibungsradar.com/ausschreibung/24959610/
URL:https://ausschreibungsradar.com/ausschreibung/24959610/
END:VEVENT
END:VCALENDAR
