BEGIN:VCALENDAR
VERSION:2.0
PRODID:-//AusschreibungsRadar//Timeline//DE
CALSCALE:GREGORIAN
METHOD:PUBLISH
X-WR-CALNAME:Projekt Beilngries : Kanal Ingolstädter Straße 2026
X-WR-TIMEZONE:Europe/Berlin
BEGIN:VEVENT
UID:5c64e5026c95489b@ausschreibungsradar.com
DTSTAMP:20260424T195232Z
DTSTART;VALUE=DATE:20260210
DTEND;VALUE=DATE:20260210
SUMMARY:Ausschreibung — Beilngries : Kanal Ingolstädter Straße 2026
DESCRIPTION:Phase: Ausschreibung | Beschreibung: Offizielle Ausschreibung mit Bieterfrist. | Link: https://ausschreibungsradar.com/ausschreibung/24976420/
URL:https://ausschreibungsradar.com/ausschreibung/24976420/
END:VEVENT
BEGIN:VEVENT
UID:ea38573a7d093353@ausschreibungsradar.com
DTSTAMP:20260424T195232Z
DTSTART;VALUE=DATE:20260210
DTEND;VALUE=DATE:20260210
SUMMARY:Ausschreibung — Beilngries : Kanal Ingolstädter Straße 2026
DESCRIPTION:Phase: Ausschreibung | Beschreibung: Offizielle Ausschreibung mit Bieterfrist. | Link: https://ausschreibungsradar.com/ausschreibung/24976424/
URL:https://ausschreibungsradar.com/ausschreibung/24976424/
END:VEVENT
END:VCALENDAR
