BEGIN:VCALENDAR
VERSION:2.0
PRODID:-//AusschreibungsRadar//Timeline//DE
CALSCALE:GREGORIAN
METHOD:PUBLISH
X-WR-CALNAME:Projekt Interreg Projekt "Gärten für die Artenvielfalt", Naturnahe U
X-WR-TIMEZONE:Europe/Berlin
BEGIN:VEVENT
UID:6e94f3d8ffe4283f@ausschreibungsradar.com
DTSTAMP:20260423T230013Z
DTSTART;VALUE=DATE:20260127
DTEND;VALUE=DATE:20260127
SUMMARY:Ausschreibung — Interreg Projekt "Gärten für die Artenvielfalt"\, Naturnahe U
DESCRIPTION:Phase: Ausschreibung | Beschreibung: Offizielle Ausschreibung mit Bieterfrist. | Link: https://ausschreibungsradar.com/ausschreibung/24914762/
URL:https://ausschreibungsradar.com/ausschreibung/24914762/
END:VEVENT
BEGIN:VEVENT
UID:35feac0d2260a449@ausschreibungsradar.com
DTSTAMP:20260423T230013Z
DTSTART;VALUE=DATE:20260211
DTEND;VALUE=DATE:20260211
SUMMARY:Ausschreibung — Interreg Projekt "Gärten für die Artenvielfalt"\, Naturnahe U
DESCRIPTION:Phase: Ausschreibung | Beschreibung: Offizielle Ausschreibung mit Bieterfrist. | Link: https://ausschreibungsradar.com/ausschreibung/24978228/
URL:https://ausschreibungsradar.com/ausschreibung/24978228/
END:VEVENT
END:VCALENDAR
