BEGIN:VCALENDAR
VERSION:2.0
PRODID:-//AusschreibungsRadar//Timeline//DE
CALSCALE:GREGORIAN
METHOD:PUBLISH
X-WR-CALNAME:Projekt Mobilstationen Velen_Ramsdorf Ausstattungselemente
X-WR-TIMEZONE:Europe/Berlin
BEGIN:VEVENT
UID:86cc772e69a543c0@ausschreibungsradar.com
DTSTAMP:20260424T062153Z
DTSTART;VALUE=DATE:20260212
DTEND;VALUE=DATE:20260212
SUMMARY:Ausschreibung — Mobilstationen Velen_Ramsdorf Ausstattungselemente
DESCRIPTION:Phase: Ausschreibung | Beschreibung: Offizielle Ausschreibung mit Bieterfrist. | Link: https://ausschreibungsradar.com/ausschreibung/24987472/
URL:https://ausschreibungsradar.com/ausschreibung/24987472/
END:VEVENT
BEGIN:VEVENT
UID:286057b1cc014566@ausschreibungsradar.com
DTSTAMP:20260424T062153Z
DTSTART;VALUE=DATE:20260212
DTEND;VALUE=DATE:20260212
SUMMARY:Ausschreibung — Mobilstationen Velen_Ramsdorf Ausstattungselemente
DESCRIPTION:Phase: Ausschreibung | Beschreibung: Offizielle Ausschreibung mit Bieterfrist. | Link: https://ausschreibungsradar.com/ausschreibung/24987468/
URL:https://ausschreibungsradar.com/ausschreibung/24987468/
END:VEVENT
END:VCALENDAR
