BEGIN:VCALENDAR
VERSION:2.0
PRODID:-//AusschreibungsRadar//Timeline//DE
CALSCALE:GREGORIAN
METHOD:PUBLISH
X-WR-CALNAME:Projekt Rahmenvereinbarung - Lieferung von Wasseraufbereitungsmittel
X-WR-TIMEZONE:Europe/Berlin
BEGIN:VEVENT
UID:54e8b17fa5d83d51@ausschreibungsradar.com
DTSTAMP:20260425T225704Z
DTSTART;VALUE=DATE:20260217
DTEND;VALUE=DATE:20260217
SUMMARY:Ausschreibung — Rahmenvereinbarung - Lieferung von Wasseraufbereitungsmittel
DESCRIPTION:Phase: Ausschreibung | Beschreibung: Offizielle Ausschreibung mit Bieterfrist. | Link: https://ausschreibungsradar.com/ausschreibung/25002926/
URL:https://ausschreibungsradar.com/ausschreibung/25002926/
END:VEVENT
BEGIN:VEVENT
UID:1c5ac8ffb525044b@ausschreibungsradar.com
DTSTAMP:20260425T225704Z
DTSTART;VALUE=DATE:20260225
DTEND;VALUE=DATE:20260225
SUMMARY:Ausschreibung — Rahmenvereinbarung - Lieferung von Wasseraufbereitungsmittel
DESCRIPTION:Phase: Ausschreibung | Beschreibung: Offizielle Ausschreibung mit Bieterfrist. | Link: https://ausschreibungsradar.com/ausschreibung/9f0d6eb5-c9c6-49fc-ab9f-c177d0192a01/
URL:https://ausschreibungsradar.com/ausschreibung/9f0d6eb5-c9c6-49fc-ab9f-c177d0192a01/
END:VEVENT
END:VCALENDAR
