BEGIN:VCALENDAR
VERSION:2.0
PRODID:-//AusschreibungsRadar//Timeline//DE
CALSCALE:GREGORIAN
METHOD:PUBLISH
X-WR-CALNAME:Projekt Beschaffung Hardware Server für Grundschulen
X-WR-TIMEZONE:Europe/Berlin
BEGIN:VEVENT
UID:4eeeced848e315df@ausschreibungsradar.com
DTSTAMP:20260424T080646Z
DTSTART;VALUE=DATE:20260224
DTEND;VALUE=DATE:20260224
SUMMARY:Ausschreibung — Beschaffung Hardware Server für Grundschulen
DESCRIPTION:Phase: Ausschreibung | Beschreibung: Offizielle Ausschreibung mit Bieterfrist. | Link: https://ausschreibungsradar.com/ausschreibung/25026910/
URL:https://ausschreibungsradar.com/ausschreibung/25026910/
END:VEVENT
BEGIN:VEVENT
UID:cd8f1f6fdd26c2da@ausschreibungsradar.com
DTSTAMP:20260424T080646Z
DTSTART;VALUE=DATE:20260224
DTEND;VALUE=DATE:20260224
SUMMARY:Ausschreibung — Beschaffung Hardware Server für Grundschulen
DESCRIPTION:Phase: Ausschreibung | Beschreibung: Offizielle Ausschreibung mit Bieterfrist. | Link: https://ausschreibungsradar.com/ausschreibung/25026920/
URL:https://ausschreibungsradar.com/ausschreibung/25026920/
END:VEVENT
END:VCALENDAR
