BEGIN:VCALENDAR
VERSION:2.0
PRODID:-//AusschreibungsRadar//Timeline//DE
CALSCALE:GREGORIAN
METHOD:PUBLISH
X-WR-CALNAME:Projekt RZ Bad Pyrmont - TZ Friedrichshöhe - FH2304 Palmenhaus - Tis
X-WR-TIMEZONE:Europe/Berlin
BEGIN:VEVENT
UID:9c59d47bf1422c43@ausschreibungsradar.com
DTSTAMP:20260424T032142Z
DTSTART;VALUE=DATE:20260305
DTEND;VALUE=DATE:20260305
SUMMARY:Ausschreibung — RZ Bad Pyrmont - TZ Friedrichshöhe - FH2304 Palmenhaus - Tis
DESCRIPTION:Phase: Ausschreibung | Beschreibung: Offizielle Ausschreibung mit Bieterfrist. | Link: https://ausschreibungsradar.com/ausschreibung/25069054/
URL:https://ausschreibungsradar.com/ausschreibung/25069054/
END:VEVENT
BEGIN:VEVENT
UID:c81d20bfed3a89d7@ausschreibungsradar.com
DTSTAMP:20260424T032142Z
DTSTART;VALUE=DATE:20260305
DTEND;VALUE=DATE:20260305
SUMMARY:Ausschreibung — RZ Bad Pyrmont - TZ Friedrichshöhe - FH2304 Palmenhaus - Tis
DESCRIPTION:Phase: Ausschreibung | Beschreibung: Offizielle Ausschreibung mit Bieterfrist. | Link: https://ausschreibungsradar.com/ausschreibung/25069038/
URL:https://ausschreibungsradar.com/ausschreibung/25069038/
END:VEVENT
BEGIN:VEVENT
UID:9208874e24646e40@ausschreibungsradar.com
DTSTAMP:20260424T032142Z
DTSTART;VALUE=DATE:20260305
DTEND;VALUE=DATE:20260305
SUMMARY:Ausschreibung — RZ Bad Pyrmont - TZ Friedrichshöhe - FH2304 Palmenhaus - Tis
DESCRIPTION:Phase: Ausschreibung | Beschreibung: Offizielle Ausschreibung mit Bieterfrist. | Link: https://ausschreibungsradar.com/ausschreibung/25069046/
URL:https://ausschreibungsradar.com/ausschreibung/25069046/
END:VEVENT
BEGIN:VEVENT
UID:6f1c353415059242@ausschreibungsradar.com
DTSTAMP:20260424T032142Z
DTSTART;VALUE=DATE:20260310
DTEND;VALUE=DATE:20260310
SUMMARY:Ausschreibung — RZ Bad Pyrmont - TZ Friedrichshöhe - FH2304 Palmenhaus - Tis
DESCRIPTION:Phase: Ausschreibung | Beschreibung: Offizielle Ausschreibung mit Bieterfrist. | Link: https://ausschreibungsradar.com/ausschreibung/25088904/
URL:https://ausschreibungsradar.com/ausschreibung/25088904/
END:VEVENT
BEGIN:VEVENT
UID:5c0b97a89f69cdf6@ausschreibungsradar.com
DTSTAMP:20260424T032142Z
DTSTART;VALUE=DATE:20260323
DTEND;VALUE=DATE:20260323
SUMMARY:Ausschreibung — RZ Bad Pyrmont - TZ Friedrichshöhe - FH2304 Palmenhaus - Tis
DESCRIPTION:Phase: Ausschreibung | Beschreibung: Offizielle Ausschreibung mit Bieterfrist. | Link: https://ausschreibungsradar.com/ausschreibung/25144424/
URL:https://ausschreibungsradar.com/ausschreibung/25144424/
END:VEVENT
BEGIN:VEVENT
UID:e7cb83a4ccf47a6d@ausschreibungsradar.com
DTSTAMP:20260424T032142Z
DTSTART;VALUE=DATE:20260330
DTEND;VALUE=DATE:20260330
SUMMARY:Ausschreibung — RZ Bad Pyrmont - TZ Friedrichshöhe - FH2304 Palmenhaus - Tis
DESCRIPTION:Phase: Ausschreibung | Beschreibung: Offizielle Ausschreibung mit Bieterfrist. | Link: https://ausschreibungsradar.com/ausschreibung/25175632/
URL:https://ausschreibungsradar.com/ausschreibung/25175632/
END:VEVENT
END:VCALENDAR
