BEGIN:VCALENDAR
VERSION:2.0
PRODID:-//AusschreibungsRadar//Timeline//DE
CALSCALE:GREGORIAN
METHOD:PUBLISH
X-WR-CALNAME:Projekt MPI für biologische Intelligenz (Standort Seewiesen), Umbau 
X-WR-TIMEZONE:Europe/Berlin
BEGIN:VEVENT
UID:b735b7da2e57db48@ausschreibungsradar.com
DTSTAMP:20260425T155148Z
DTSTART;VALUE=DATE:20260305
DTEND;VALUE=DATE:20260305
SUMMARY:Ausschreibung — MPI für biologische Intelligenz (Standort Seewiesen)\, Umbau 
DESCRIPTION:Phase: Ausschreibung | Beschreibung: Offizielle Ausschreibung mit Bieterfrist. | Link: https://ausschreibungsradar.com/ausschreibung/25073034/
URL:https://ausschreibungsradar.com/ausschreibung/25073034/
END:VEVENT
BEGIN:VEVENT
UID:7362e6fd5491ee7b@ausschreibungsradar.com
DTSTAMP:20260425T155148Z
DTSTART;VALUE=DATE:20260319
DTEND;VALUE=DATE:20260319
SUMMARY:Zuschlag — MPI für biologische Intelligenz (Standort Seewiesen)\, Umbau 
DESCRIPTION:Phase: Zuschlag | Beschreibung: Vergabeergebnis — Auftrag wurde erteilt oder Verfahren beendet. | Link: https://ausschreibungsradar.com/ausschreibung/25135610/
URL:https://ausschreibungsradar.com/ausschreibung/25135610/
END:VEVENT
END:VCALENDAR
