BEGIN:VCALENDAR
VERSION:2.0
PRODID:-//AusschreibungsRadar//Timeline//DE
CALSCALE:GREGORIAN
METHOD:PUBLISH
X-WR-CALNAME:Projekt A6 FBE Schwetzingen - Strecke, FR Heilbronn, Reptilienzaun
X-WR-TIMEZONE:Europe/Berlin
BEGIN:VEVENT
UID:8322fb0922f58da5@ausschreibungsradar.com
DTSTAMP:20260424T081206Z
DTSTART;VALUE=DATE:20260213
DTEND;VALUE=DATE:20260213
SUMMARY:Ausschreibung — A6 FBE Schwetzingen - Strecke\, FR Heilbronn\, Reptilienzaun
DESCRIPTION:Phase: Ausschreibung | Beschreibung: Offizielle Ausschreibung mit Bieterfrist. | Link: https://ausschreibungsradar.com/ausschreibung/9477fe77-8231-4cbc-b1c7-ffc49eed0ce1/
URL:https://ausschreibungsradar.com/ausschreibung/9477fe77-8231-4cbc-b1c7-ffc49eed0ce1/
END:VEVENT
BEGIN:VEVENT
UID:027c0707407e3393@ausschreibungsradar.com
DTSTAMP:20260424T081206Z
DTSTART;VALUE=DATE:20260306
DTEND;VALUE=DATE:20260306
SUMMARY:Ausschreibung — A6 FBE Schwetzingen - Strecke\, FR Heilbronn\, Reptilienzaun
DESCRIPTION:Phase: Ausschreibung | Beschreibung: Offizielle Ausschreibung mit Bieterfrist. | Link: https://ausschreibungsradar.com/ausschreibung/25076648/
URL:https://ausschreibungsradar.com/ausschreibung/25076648/
END:VEVENT
END:VCALENDAR
