BEGIN:VCALENDAR
VERSION:2.0
PRODID:-//AusschreibungsRadar//Timeline//DE
CALSCALE:GREGORIAN
METHOD:PUBLISH
X-WR-CALNAME:Projekt Moseltalhalle u. Grundschule Piesport, Elektroanlage
X-WR-TIMEZONE:Europe/Berlin
BEGIN:VEVENT
UID:42821826150a13ff@ausschreibungsradar.com
DTSTAMP:20260425T200025Z
DTSTART;VALUE=DATE:20260309
DTEND;VALUE=DATE:20260309
SUMMARY:Ausschreibung — Moseltalhalle u. Grundschule Piesport\, Elektroanlage
DESCRIPTION:Phase: Ausschreibung | Beschreibung: Offizielle Ausschreibung mit Bieterfrist. | Link: https://ausschreibungsradar.com/ausschreibung/25085538/
URL:https://ausschreibungsradar.com/ausschreibung/25085538/
END:VEVENT
BEGIN:VEVENT
UID:a09b9ffceb3f24a1@ausschreibungsradar.com
DTSTAMP:20260425T200025Z
DTSTART;VALUE=DATE:20260401
DTEND;VALUE=DATE:20260401
SUMMARY:Ausschreibung — Moseltalhalle u. Grundschule Piesport\, Elektroanlage
DESCRIPTION:Phase: Ausschreibung | Beschreibung: Offizielle Ausschreibung mit Bieterfrist. | Link: https://ausschreibungsradar.com/ausschreibung/25189524/
URL:https://ausschreibungsradar.com/ausschreibung/25189524/
END:VEVENT
END:VCALENDAR
