BEGIN:VCALENDAR
VERSION:2.0
PRODID:-//AusschreibungsRadar//Timeline//DE
CALSCALE:GREGORIAN
METHOD:PUBLISH
X-WR-CALNAME:Projekt Austausch Angiographieanlage - Anpassung Medizinische Gase
X-WR-TIMEZONE:Europe/Berlin
BEGIN:VEVENT
UID:532928300375020a@ausschreibungsradar.com
DTSTAMP:20260424T120524Z
DTSTART;VALUE=DATE:20260309
DTEND;VALUE=DATE:20260309
SUMMARY:Ausschreibung — Austausch Angiographieanlage - Anpassung Medizinische Gase
DESCRIPTION:Phase: Ausschreibung | Beschreibung: Offizielle Ausschreibung mit Bieterfrist. | Link: https://ausschreibungsradar.com/ausschreibung/25086040/
URL:https://ausschreibungsradar.com/ausschreibung/25086040/
END:VEVENT
BEGIN:VEVENT
UID:2c7ff89c89cb6d17@ausschreibungsradar.com
DTSTAMP:20260424T120524Z
DTSTART;VALUE=DATE:20260309
DTEND;VALUE=DATE:20260309
SUMMARY:Ausschreibung — Austausch Angiographieanlage - Anpassung Medizinische Gase
DESCRIPTION:Phase: Ausschreibung | Beschreibung: Offizielle Ausschreibung mit Bieterfrist. | Link: https://ausschreibungsradar.com/ausschreibung/25086048/
URL:https://ausschreibungsradar.com/ausschreibung/25086048/
END:VEVENT
BEGIN:VEVENT
UID:995248b33c686edc@ausschreibungsradar.com
DTSTAMP:20260424T120524Z
DTSTART;VALUE=DATE:20260309
DTEND;VALUE=DATE:20260309
SUMMARY:Ausschreibung — Austausch Angiographieanlage - Anpassung Medizinische Gase
DESCRIPTION:Phase: Ausschreibung | Beschreibung: Offizielle Ausschreibung mit Bieterfrist. | Link: https://ausschreibungsradar.com/ausschreibung/25086056/
URL:https://ausschreibungsradar.com/ausschreibung/25086056/
END:VEVENT
BEGIN:VEVENT
UID:00d7846a499fc36f@ausschreibungsradar.com
DTSTAMP:20260424T120524Z
DTSTART;VALUE=DATE:20260310
DTEND;VALUE=DATE:20260310
SUMMARY:Ausschreibung — Austausch Angiographieanlage - Anpassung Medizinische Gase
DESCRIPTION:Phase: Ausschreibung | Beschreibung: Offizielle Ausschreibung mit Bieterfrist. | Link: https://ausschreibungsradar.com/ausschreibung/25091886/
URL:https://ausschreibungsradar.com/ausschreibung/25091886/
END:VEVENT
BEGIN:VEVENT
UID:8e5fa84d8056569a@ausschreibungsradar.com
DTSTAMP:20260424T120524Z
DTSTART;VALUE=DATE:20260320
DTEND;VALUE=DATE:20260320
SUMMARY:Ausschreibung — Austausch Angiographieanlage - Anpassung Medizinische Gase
DESCRIPTION:Phase: Ausschreibung | Beschreibung: Offizielle Ausschreibung mit Bieterfrist. | Link: https://ausschreibungsradar.com/ausschreibung/25141074/
URL:https://ausschreibungsradar.com/ausschreibung/25141074/
END:VEVENT
BEGIN:VEVENT
UID:a4664ad4cedc235f@ausschreibungsradar.com
DTSTAMP:20260424T120524Z
DTSTART;VALUE=DATE:20260402
DTEND;VALUE=DATE:20260402
SUMMARY:Zuschlag — Austausch Angiographieanlage - Anpassung Medizinische Gase
DESCRIPTION:Phase: Zuschlag | Beschreibung: Vergabeergebnis — Auftrag wurde erteilt oder Verfahren beendet. | Link: https://ausschreibungsradar.com/ausschreibung/25197882/
URL:https://ausschreibungsradar.com/ausschreibung/25197882/
END:VEVENT
END:VCALENDAR
