BEGIN:VCALENDAR
VERSION:2.0
PRODID:-//AusschreibungsRadar//Timeline//DE
CALSCALE:GREGORIAN
METHOD:PUBLISH
X-WR-CALNAME:Projekt Brandmeldeanlage, Tausch Rauchmelder, DD,FÄ Nord u.Süd,Raben
X-WR-TIMEZONE:Europe/Berlin
BEGIN:VEVENT
UID:b23e46e38a2c2165@ausschreibungsradar.com
DTSTAMP:20260423T232613Z
DTSTART;VALUE=DATE:20260312
DTEND;VALUE=DATE:20260312
SUMMARY:Zuschlag — Brandmeldeanlage\, Tausch Rauchmelder\, DD\,FÄ Nord u.Süd\,Raben
DESCRIPTION:Phase: Zuschlag | Beschreibung: Vergabeergebnis — Auftrag wurde erteilt oder Verfahren beendet. | Link: https://ausschreibungsradar.com/ausschreibung/25099326/
URL:https://ausschreibungsradar.com/ausschreibung/25099326/
END:VEVENT
BEGIN:VEVENT
UID:17142d2e372b2553@ausschreibungsradar.com
DTSTAMP:20260423T232613Z
DTSTART;VALUE=DATE:20260312
DTEND;VALUE=DATE:20260312
SUMMARY:Zuschlag — Brandmeldeanlage\, Tausch Rauchmelder\, DD\,FÄ Nord u.Süd\,Raben
DESCRIPTION:Phase: Zuschlag | Beschreibung: Vergabeergebnis — Auftrag wurde erteilt oder Verfahren beendet. | Link: https://ausschreibungsradar.com/ausschreibung/25099346/
URL:https://ausschreibungsradar.com/ausschreibung/25099346/
END:VEVENT
END:VCALENDAR
