BEGIN:VCALENDAR
VERSION:2.0
PRODID:-//AusschreibungsRadar//Timeline//DE
CALSCALE:GREGORIAN
METHOD:PUBLISH
X-WR-CALNAME:Projekt Kultur- & Dorfscheune und Jugendtreff in der ?Neuen Ortsmitt
X-WR-TIMEZONE:Europe/Berlin
BEGIN:VEVENT
UID:37ed0f6fa355745e@ausschreibungsradar.com
DTSTAMP:20260425T180646Z
DTSTART;VALUE=DATE:20260313
DTEND;VALUE=DATE:20260313
SUMMARY:Ausschreibung — Kultur- & Dorfscheune und Jugendtreff in der ?Neuen Ortsmitt
DESCRIPTION:Phase: Ausschreibung | Beschreibung: Offizielle Ausschreibung mit Bieterfrist. | Link: https://ausschreibungsradar.com/ausschreibung/25103580/
URL:https://ausschreibungsradar.com/ausschreibung/25103580/
END:VEVENT
BEGIN:VEVENT
UID:b01de392ff6ab980@ausschreibungsradar.com
DTSTAMP:20260425T180646Z
DTSTART;VALUE=DATE:20260326
DTEND;VALUE=DATE:20260326
SUMMARY:Ausschreibung — Kultur- & Dorfscheune und Jugendtreff in der ?Neuen Ortsmitt
DESCRIPTION:Phase: Ausschreibung | Beschreibung: Offizielle Ausschreibung mit Bieterfrist. | Link: https://ausschreibungsradar.com/ausschreibung/3b1968c1-694c-41fd-9ea6-98dbc17e0e97/
URL:https://ausschreibungsradar.com/ausschreibung/3b1968c1-694c-41fd-9ea6-98dbc17e0e97/
END:VEVENT
END:VCALENDAR
