BEGIN:VCALENDAR
VERSION:2.0
PRODID:-//AusschreibungsRadar//Timeline//DE
CALSCALE:GREGORIAN
METHOD:PUBLISH
X-WR-CALNAME:Projekt Stellung von multiprofessionellen Personal an Schulen in Mai
X-WR-TIMEZONE:Europe/Berlin
BEGIN:VEVENT
UID:8ce55b5cb8b3fecd@ausschreibungsradar.com
DTSTAMP:20260424T235921Z
DTSTART;VALUE=DATE:20260313
DTEND;VALUE=DATE:20260313
SUMMARY:Ausschreibung — Stellung von multiprofessionellen Personal an Schulen in Mai
DESCRIPTION:Phase: Ausschreibung | Beschreibung: Offizielle Ausschreibung mit Bieterfrist. | Link: https://ausschreibungsradar.com/ausschreibung/25103648/
URL:https://ausschreibungsradar.com/ausschreibung/25103648/
END:VEVENT
BEGIN:VEVENT
UID:db09f574d82dab60@ausschreibungsradar.com
DTSTAMP:20260424T235921Z
DTSTART;VALUE=DATE:20260319
DTEND;VALUE=DATE:20260319
SUMMARY:Ausschreibung — Stellung von multiprofessionellen Personal an Schulen in Mai
DESCRIPTION:Phase: Ausschreibung | Beschreibung: Offizielle Ausschreibung mit Bieterfrist. | Link: https://ausschreibungsradar.com/ausschreibung/25128048/
URL:https://ausschreibungsradar.com/ausschreibung/25128048/
END:VEVENT
END:VCALENDAR
