BEGIN:VCALENDAR
VERSION:2.0
PRODID:-//AusschreibungsRadar//Timeline//DE
CALSCALE:GREGORIAN
METHOD:PUBLISH
X-WR-CALNAME:Projekt ZV - Ebern - Tragkraftspritzenfahrzeug/Wasser  für die Freiw
X-WR-TIMEZONE:Europe/Berlin
BEGIN:VEVENT
UID:dcf2f2a77fd5f143@ausschreibungsradar.com
DTSTAMP:20260425T142833Z
DTSTART;VALUE=DATE:20260312
DTEND;VALUE=DATE:20260312
SUMMARY:Ausschreibung — ZV - Ebern - Tragkraftspritzenfahrzeug/Wasser  für die Freiw
DESCRIPTION:Phase: Ausschreibung | Beschreibung: Offizielle Ausschreibung mit Bieterfrist. | Link: https://ausschreibungsradar.com/ausschreibung/25100772/
URL:https://ausschreibungsradar.com/ausschreibung/25100772/
END:VEVENT
BEGIN:VEVENT
UID:71b1466dd2a7acea@ausschreibungsradar.com
DTSTAMP:20260425T142833Z
DTSTART;VALUE=DATE:20260313
DTEND;VALUE=DATE:20260313
SUMMARY:Ausschreibung — ZV - Ebern - Tragkraftspritzenfahrzeug/Wasser  für die Freiw
DESCRIPTION:Phase: Ausschreibung | Beschreibung: Offizielle Ausschreibung mit Bieterfrist. | Link: https://ausschreibungsradar.com/ausschreibung/25103852/
URL:https://ausschreibungsradar.com/ausschreibung/25103852/
END:VEVENT
END:VCALENDAR
