BEGIN:VCALENDAR
VERSION:2.0
PRODID:-//AusschreibungsRadar//Timeline//DE
CALSCALE:GREGORIAN
METHOD:PUBLISH
X-WR-CALNAME:Projekt Energetische Sanierung Mehrzweckhalle Mehren, GW 1: Erd- und
X-WR-TIMEZONE:Europe/Berlin
BEGIN:VEVENT
UID:9c46fcc8c56eea72@ausschreibungsradar.com
DTSTAMP:20260425T142917Z
DTSTART;VALUE=DATE:20260317
DTEND;VALUE=DATE:20260317
SUMMARY:Ausschreibung — Energetische Sanierung Mehrzweckhalle Mehren\, GW 1: Erd- und
DESCRIPTION:Phase: Ausschreibung | Beschreibung: Offizielle Ausschreibung mit Bieterfrist. | Link: https://ausschreibungsradar.com/ausschreibung/25123472/
URL:https://ausschreibungsradar.com/ausschreibung/25123472/
END:VEVENT
BEGIN:VEVENT
UID:6f92ca05d3183aba@ausschreibungsradar.com
DTSTAMP:20260425T142917Z
DTSTART;VALUE=DATE:20260317
DTEND;VALUE=DATE:20260317
SUMMARY:Ausschreibung — Energetische Sanierung Mehrzweckhalle Mehren\, GW 1: Erd- und
DESCRIPTION:Phase: Ausschreibung | Beschreibung: Offizielle Ausschreibung mit Bieterfrist. | Link: https://ausschreibungsradar.com/ausschreibung/25123468/
URL:https://ausschreibungsradar.com/ausschreibung/25123468/
END:VEVENT
END:VCALENDAR
