BEGIN:VCALENDAR
VERSION:2.0
PRODID:-//AusschreibungsRadar//Timeline//DE
CALSCALE:GREGORIAN
METHOD:PUBLISH
X-WR-CALNAME:Projekt Neubau Rathaus- Sicherheits- und Gesundheitskoordinator
X-WR-TIMEZONE:Europe/Berlin
BEGIN:VEVENT
UID:43070feebca65240@ausschreibungsradar.com
DTSTAMP:20260426T015258Z
DTSTART;VALUE=DATE:20260318
DTEND;VALUE=DATE:20260318
SUMMARY:Ausschreibung — Neubau Rathaus- Sicherheits- und Gesundheitskoordinator
DESCRIPTION:Phase: Ausschreibung | Beschreibung: Offizielle Ausschreibung mit Bieterfrist. | Link: https://ausschreibungsradar.com/ausschreibung/25124674/
URL:https://ausschreibungsradar.com/ausschreibung/25124674/
END:VEVENT
BEGIN:VEVENT
UID:c322c76dcf3290b6@ausschreibungsradar.com
DTSTAMP:20260426T015258Z
DTSTART;VALUE=DATE:20260319
DTEND;VALUE=DATE:20260319
SUMMARY:Ausschreibung — Neubau Rathaus- Sicherheits- und Gesundheitskoordinator
DESCRIPTION:Phase: Ausschreibung | Beschreibung: Offizielle Ausschreibung mit Bieterfrist. | Link: https://ausschreibungsradar.com/ausschreibung/25130630/
URL:https://ausschreibungsradar.com/ausschreibung/25130630/
END:VEVENT
END:VCALENDAR
