BEGIN:VCALENDAR
VERSION:2.0
PRODID:-//AusschreibungsRadar//Timeline//DE
CALSCALE:GREGORIAN
METHOD:PUBLISH
X-WR-CALNAME:Projekt Transparenzbekanntmachung
X-WR-TIMEZONE:Europe/Berlin
BEGIN:VEVENT
UID:551a3fb04bc78675@ausschreibungsradar.com
DTSTAMP:20260424T060207Z
DTSTART;VALUE=DATE:20260225
DTEND;VALUE=DATE:20260225
SUMMARY:Ausschreibung — Transparenzbekanntmachung
DESCRIPTION:Phase: Ausschreibung | Beschreibung: Offizielle Ausschreibung mit Bieterfrist. | Link: https://ausschreibungsradar.com/ausschreibung/25033338/
URL:https://ausschreibungsradar.com/ausschreibung/25033338/
END:VEVENT
BEGIN:VEVENT
UID:41b064584db31a58@ausschreibungsradar.com
DTSTAMP:20260424T060207Z
DTSTART;VALUE=DATE:20260225
DTEND;VALUE=DATE:20260225
SUMMARY:Ausschreibung — Transparenzbekanntmachung
DESCRIPTION:Phase: Ausschreibung | Beschreibung: Offizielle Ausschreibung mit Bieterfrist. | Link: https://ausschreibungsradar.com/ausschreibung/25033342/
URL:https://ausschreibungsradar.com/ausschreibung/25033342/
END:VEVENT
BEGIN:VEVENT
UID:dfef712b3db98a9c@ausschreibungsradar.com
DTSTAMP:20260424T060207Z
DTSTART;VALUE=DATE:20260303
DTEND;VALUE=DATE:20260303
SUMMARY:Ausschreibung — Transparenzbekanntmachung
DESCRIPTION:Phase: Ausschreibung | Beschreibung: Offizielle Ausschreibung mit Bieterfrist. | Link: https://ausschreibungsradar.com/ausschreibung/25057306/
URL:https://ausschreibungsradar.com/ausschreibung/25057306/
END:VEVENT
BEGIN:VEVENT
UID:7572a8b895e74d0f@ausschreibungsradar.com
DTSTAMP:20260424T060207Z
DTSTART;VALUE=DATE:20260311
DTEND;VALUE=DATE:20260311
SUMMARY:Ausschreibung — Transparenzbekanntmachung
DESCRIPTION:Phase: Ausschreibung | Beschreibung: Offizielle Ausschreibung mit Bieterfrist. | Link: https://ausschreibungsradar.com/ausschreibung/25093534/
URL:https://ausschreibungsradar.com/ausschreibung/25093534/
END:VEVENT
BEGIN:VEVENT
UID:021c90232338a82b@ausschreibungsradar.com
DTSTAMP:20260424T060207Z
DTSTART;VALUE=DATE:20260324
DTEND;VALUE=DATE:20260324
SUMMARY:Ausschreibung — Transparenzbekanntmachung
DESCRIPTION:Phase: Ausschreibung | Beschreibung: Offizielle Ausschreibung mit Bieterfrist. | Link: https://ausschreibungsradar.com/ausschreibung/25148792/
URL:https://ausschreibungsradar.com/ausschreibung/25148792/
END:VEVENT
BEGIN:VEVENT
UID:cff9f80d73f0c446@ausschreibungsradar.com
DTSTAMP:20260424T060207Z
DTSTART;VALUE=DATE:20260414
DTEND;VALUE=DATE:20260414
SUMMARY:Ausschreibung — Transparenzbekanntmachung
DESCRIPTION:Phase: Ausschreibung | Beschreibung: Offizielle Ausschreibung mit Bieterfrist. | Link: https://ausschreibungsradar.com/ausschreibung/25227502/
URL:https://ausschreibungsradar.com/ausschreibung/25227502/
END:VEVENT
END:VCALENDAR
