BEGIN:VCALENDAR
VERSION:2.0
PRODID:-//AusschreibungsRadar//Timeline//DE
CALSCALE:GREGORIAN
METHOD:PUBLISH
X-WR-CALNAME:Projekt Rahmenvertrag graphische Leistungen
X-WR-TIMEZONE:Europe/Berlin
BEGIN:VEVENT
UID:3b9c1409c69ab6b7@ausschreibungsradar.com
DTSTAMP:20260424T090326Z
DTSTART;VALUE=DATE:20260319
DTEND;VALUE=DATE:20260319
SUMMARY:Ausschreibung — Rahmenvertrag graphische Leistungen
DESCRIPTION:Phase: Ausschreibung | Beschreibung: Offizielle Ausschreibung mit Bieterfrist. | Link: https://ausschreibungsradar.com/ausschreibung/25130614/
URL:https://ausschreibungsradar.com/ausschreibung/25130614/
END:VEVENT
BEGIN:VEVENT
UID:f0f70a6e5b68322b@ausschreibungsradar.com
DTSTAMP:20260424T090326Z
DTSTART;VALUE=DATE:20260325
DTEND;VALUE=DATE:20260325
SUMMARY:Ausschreibung — Rahmenvertrag graphische Leistungen
DESCRIPTION:Phase: Ausschreibung | Beschreibung: Offizielle Ausschreibung mit Bieterfrist. | Link: https://ausschreibungsradar.com/ausschreibung/25154352/
URL:https://ausschreibungsradar.com/ausschreibung/25154352/
END:VEVENT
BEGIN:VEVENT
UID:100bb3c4b5561c99@ausschreibungsradar.com
DTSTAMP:20260424T090326Z
DTSTART;VALUE=DATE:20260402
DTEND;VALUE=DATE:20260402
SUMMARY:Ausschreibung — Rahmenvertrag graphische Leistungen
DESCRIPTION:Phase: Ausschreibung | Beschreibung: Offizielle Ausschreibung mit Bieterfrist. | Link: https://ausschreibungsradar.com/ausschreibung/25192586/
URL:https://ausschreibungsradar.com/ausschreibung/25192586/
END:VEVENT
BEGIN:VEVENT
UID:6591127ff177c7dc@ausschreibungsradar.com
DTSTAMP:20260424T090326Z
DTSTART;VALUE=DATE:20260414
DTEND;VALUE=DATE:20260414
SUMMARY:Ausschreibung — Rahmenvertrag graphische Leistungen
DESCRIPTION:Phase: Ausschreibung | Beschreibung: Offizielle Ausschreibung mit Bieterfrist. | Link: https://ausschreibungsradar.com/ausschreibung/25227678/
URL:https://ausschreibungsradar.com/ausschreibung/25227678/
END:VEVENT
END:VCALENDAR
