BEGIN:VCALENDAR
VERSION:2.0
PRODID:-//AusschreibungsRadar//Timeline//DE
CALSCALE:GREGORIAN
METHOD:PUBLISH
X-WR-CALNAME:Projekt Umbau und Sanierung der Alten Schule Bösenreutin mit Anbau z
X-WR-TIMEZONE:Europe/Berlin
BEGIN:VEVENT
UID:80bed4f1b33f90ea@ausschreibungsradar.com
DTSTAMP:20260423T232614Z
DTSTART;VALUE=DATE:20260325
DTEND;VALUE=DATE:20260325
SUMMARY:Zuschlag — Umbau und Sanierung der Alten Schule Bösenreutin mit Anbau z
DESCRIPTION:Phase: Zuschlag | Beschreibung: Vergabeergebnis — Auftrag wurde erteilt oder Verfahren beendet. | Link: https://ausschreibungsradar.com/ausschreibung/25159168/
URL:https://ausschreibungsradar.com/ausschreibung/25159168/
END:VEVENT
BEGIN:VEVENT
UID:d0639c211dc46be8@ausschreibungsradar.com
DTSTAMP:20260423T232614Z
DTSTART;VALUE=DATE:20260416
DTEND;VALUE=DATE:20260416
SUMMARY:Zuschlag — Umbau und Sanierung der Alten Schule Bösenreutin mit Anbau z
DESCRIPTION:Phase: Zuschlag | Beschreibung: Vergabeergebnis — Auftrag wurde erteilt oder Verfahren beendet. | Link: https://ausschreibungsradar.com/ausschreibung/25243332/
URL:https://ausschreibungsradar.com/ausschreibung/25243332/
END:VEVENT
END:VCALENDAR
