BEGIN:VCALENDAR
VERSION:2.0
PRODID:-//AusschreibungsRadar//Timeline//DE
CALSCALE:GREGORIAN
METHOD:PUBLISH
X-WR-CALNAME:Projekt 75231200-6 Mit Strafvollzug und Rehabilitation verbundene Di
X-WR-TIMEZONE:Europe/Berlin
BEGIN:VEVENT
UID:14220697f865d746@ausschreibungsradar.com
DTSTAMP:20260424T074807Z
DTSTART;VALUE=DATE:20260312
DTEND;VALUE=DATE:20260312
SUMMARY:Ausschreibung — 75231200-6 Mit Strafvollzug und Rehabilitation verbundene Di
DESCRIPTION:Phase: Ausschreibung | Beschreibung: Offizielle Ausschreibung mit Bieterfrist. | Link: https://ausschreibungsradar.com/ausschreibung/25104470/
URL:https://ausschreibungsradar.com/ausschreibung/25104470/
END:VEVENT
BEGIN:VEVENT
UID:29a9fd4b51c032ef@ausschreibungsradar.com
DTSTAMP:20260424T074807Z
DTSTART;VALUE=DATE:20260326
DTEND;VALUE=DATE:20260326
SUMMARY:Ausschreibung — 75231200-6 Mit Strafvollzug und Rehabilitation verbundene Di
DESCRIPTION:Phase: Ausschreibung | Beschreibung: Offizielle Ausschreibung mit Bieterfrist. | Link: https://ausschreibungsradar.com/ausschreibung/25165676/
URL:https://ausschreibungsradar.com/ausschreibung/25165676/
END:VEVENT
END:VCALENDAR
