BEGIN:VCALENDAR
VERSION:2.0
PRODID:-//AusschreibungsRadar//Timeline//DE
CALSCALE:GREGORIAN
METHOD:PUBLISH
X-WR-CALNAME:Projekt Moseltalhalle u. Grundschule Piesport, Tiefbau- und Rohbauar
X-WR-TIMEZONE:Europe/Berlin
BEGIN:VEVENT
UID:a09b9ffceb3f24a1@ausschreibungsradar.com
DTSTAMP:20260425T225850Z
DTSTART;VALUE=DATE:20260401
DTEND;VALUE=DATE:20260401
SUMMARY:Ausschreibung — Moseltalhalle u. Grundschule Piesport\, Tiefbau- und Rohbauar
DESCRIPTION:Phase: Ausschreibung | Beschreibung: Offizielle Ausschreibung mit Bieterfrist. | Link: https://ausschreibungsradar.com/ausschreibung/25189524/
URL:https://ausschreibungsradar.com/ausschreibung/25189524/
END:VEVENT
BEGIN:VEVENT
UID:1b6fc1bfc022ece1@ausschreibungsradar.com
DTSTAMP:20260425T225850Z
DTSTART;VALUE=DATE:20260415
DTEND;VALUE=DATE:20260415
SUMMARY:Ausschreibung — Moseltalhalle u. Grundschule Piesport\, Tiefbau- und Rohbauar
DESCRIPTION:Phase: Ausschreibung | Beschreibung: Offizielle Ausschreibung mit Bieterfrist. | Link: https://ausschreibungsradar.com/ausschreibung/25236166/
URL:https://ausschreibungsradar.com/ausschreibung/25236166/
END:VEVENT
END:VCALENDAR
