BEGIN:VCALENDAR
VERSION:2.0
PRODID:-//AusschreibungsRadar//Timeline//DE
CALSCALE:GREGORIAN
METHOD:PUBLISH
X-WR-CALNAME:Projekt A20 DE AS Dummerstorf-AS Sanitz km 137,925-144,50 bd RF_SiGe
X-WR-TIMEZONE:Europe/Berlin
BEGIN:VEVENT
UID:9b2db5b07cac0679@ausschreibungsradar.com
DTSTAMP:20260424T195312Z
DTSTART;VALUE=DATE:20260327
DTEND;VALUE=DATE:20260327
SUMMARY:Zuschlag — A20 DE AS Dummerstorf-AS Sanitz km 137\,925-144\,50 bd RF_SiGe
DESCRIPTION:Phase: Zuschlag | Beschreibung: Vergabeergebnis — Auftrag wurde erteilt oder Verfahren beendet. | Link: https://ausschreibungsradar.com/ausschreibung/765a9ba4-bc70-478e-8721-e3e5040d15b8/
URL:https://ausschreibungsradar.com/ausschreibung/765a9ba4-bc70-478e-8721-e3e5040d15b8/
END:VEVENT
BEGIN:VEVENT
UID:c20b8736a568e6c6@ausschreibungsradar.com
DTSTAMP:20260424T195312Z
DTSTART;VALUE=DATE:20260410
DTEND;VALUE=DATE:20260410
SUMMARY:Ausschreibung — A20 DE AS Dummerstorf-AS Sanitz km 137\,925-144\,50 bd RF_SiGe
DESCRIPTION:Phase: Ausschreibung | Beschreibung: Offizielle Ausschreibung mit Bieterfrist. | Link: https://ausschreibungsradar.com/ausschreibung/25217200/
URL:https://ausschreibungsradar.com/ausschreibung/25217200/
END:VEVENT
END:VCALENDAR
