BEGIN:VCALENDAR
VERSION:2.0
PRODID:-//AusschreibungsRadar//Timeline//DE
CALSCALE:GREGORIAN
METHOD:PUBLISH
X-WR-CALNAME:Projekt Transparenzbekanntmachung - HWSB 2013 Polenz in Neustadt
X-WR-TIMEZONE:Europe/Berlin
BEGIN:VEVENT
UID:021c90232338a82b@ausschreibungsradar.com
DTSTAMP:20260425T142913Z
DTSTART;VALUE=DATE:20260324
DTEND;VALUE=DATE:20260324
SUMMARY:Ausschreibung — Transparenzbekanntmachung - HWSB 2013 Polenz in Neustadt
DESCRIPTION:Phase: Ausschreibung | Beschreibung: Offizielle Ausschreibung mit Bieterfrist. | Link: https://ausschreibungsradar.com/ausschreibung/25148792/
URL:https://ausschreibungsradar.com/ausschreibung/25148792/
END:VEVENT
BEGIN:VEVENT
UID:cff9f80d73f0c446@ausschreibungsradar.com
DTSTAMP:20260425T142913Z
DTSTART;VALUE=DATE:20260414
DTEND;VALUE=DATE:20260414
SUMMARY:Ausschreibung — Transparenzbekanntmachung - HWSB 2013 Polenz in Neustadt
DESCRIPTION:Phase: Ausschreibung | Beschreibung: Offizielle Ausschreibung mit Bieterfrist. | Link: https://ausschreibungsradar.com/ausschreibung/25227502/
URL:https://ausschreibungsradar.com/ausschreibung/25227502/
END:VEVENT
END:VCALENDAR
