BEGIN:VCALENDAR
VERSION:2.0
PRODID:-//AusschreibungsRadar//Timeline//DE
CALSCALE:GREGORIAN
METHOD:PUBLISH
X-WR-CALNAME:Projekt Rahmenvereinbarung über die Lieferung, Montage und Einrichtu
X-WR-TIMEZONE:Europe/Berlin
BEGIN:VEVENT
UID:efd0292955b0e92a@ausschreibungsradar.com
DTSTAMP:20260424T062218Z
DTSTART;VALUE=DATE:20260415
DTEND;VALUE=DATE:20260415
SUMMARY:Ausschreibung — Rahmenvereinbarung über die Lieferung\, Montage und Einrichtu
DESCRIPTION:Phase: Ausschreibung | Beschreibung: Offizielle Ausschreibung mit Bieterfrist. | Link: https://ausschreibungsradar.com/ausschreibung/25230510/
URL:https://ausschreibungsradar.com/ausschreibung/25230510/
END:VEVENT
BEGIN:VEVENT
UID:acb9249cafca6d0f@ausschreibungsradar.com
DTSTAMP:20260424T062218Z
DTSTART;VALUE=DATE:20260415
DTEND;VALUE=DATE:20260415
SUMMARY:Ausschreibung — Rahmenvereinbarung über die Lieferung\, Montage und Einrichtu
DESCRIPTION:Phase: Ausschreibung | Beschreibung: Offizielle Ausschreibung mit Bieterfrist. | Link: https://ausschreibungsradar.com/ausschreibung/25230482/
URL:https://ausschreibungsradar.com/ausschreibung/25230482/
END:VEVENT
END:VCALENDAR
