BEGIN:VCALENDAR
VERSION:2.0
PRODID:-//AusschreibungsRadar//Timeline//DE
CALSCALE:GREGORIAN
METHOD:PUBLISH
X-WR-CALNAME:Projekt Reinigung Musikschule Arnstadt
X-WR-TIMEZONE:Europe/Berlin
BEGIN:VEVENT
UID:eaa77b35f0d32609@ausschreibungsradar.com
DTSTAMP:20260424T090726Z
DTSTART;VALUE=DATE:20260408
DTEND;VALUE=DATE:20260408
SUMMARY:Ausschreibung — Reinigung Musikschule Arnstadt
DESCRIPTION:Phase: Ausschreibung | Beschreibung: Offizielle Ausschreibung mit Bieterfrist. | Link: https://ausschreibungsradar.com/ausschreibung/25205380/
URL:https://ausschreibungsradar.com/ausschreibung/25205380/
END:VEVENT
BEGIN:VEVENT
UID:b3f4b42900880776@ausschreibungsradar.com
DTSTAMP:20260424T090726Z
DTSTART;VALUE=DATE:20260416
DTEND;VALUE=DATE:20260416
SUMMARY:Ausschreibung — Reinigung Musikschule Arnstadt
DESCRIPTION:Phase: Ausschreibung | Beschreibung: Offizielle Ausschreibung mit Bieterfrist. | Link: https://ausschreibungsradar.com/ausschreibung/25238788/
URL:https://ausschreibungsradar.com/ausschreibung/25238788/
END:VEVENT
END:VCALENDAR
