BEGIN:VCALENDAR
VERSION:2.0
PRODID:-//AusschreibungsRadar//Timeline//DE
CALSCALE:GREGORIAN
METHOD:PUBLISH
X-WR-CALNAME:Projekt Sanierung und Erweiterung Erlebnisbad Senftenberg - Los 25: 
X-WR-TIMEZONE:Europe/Berlin
BEGIN:VEVENT
UID:9bf29fc103e9e48d@ausschreibungsradar.com
DTSTAMP:20260424T095657Z
DTSTART;VALUE=DATE:20250923
DTEND;VALUE=DATE:20250923
SUMMARY:Ausschreibung — Sanierung und Erweiterung Erlebnisbad Senftenberg - Los 25: 
DESCRIPTION:Phase: Ausschreibung | Beschreibung: Offizielle Ausschreibung mit Bieterfrist. | Link: https://ausschreibungsradar.com/ausschreibung/24434888/
URL:https://ausschreibungsradar.com/ausschreibung/24434888/
END:VEVENT
BEGIN:VEVENT
UID:a01a2ad7dc873c05@ausschreibungsradar.com
DTSTAMP:20260424T095657Z
DTSTART;VALUE=DATE:20250926
DTEND;VALUE=DATE:20250926
SUMMARY:Ausschreibung — Sanierung und Erweiterung Erlebnisbad Senftenberg - Los 25: 
DESCRIPTION:Phase: Ausschreibung | Beschreibung: Offizielle Ausschreibung mit Bieterfrist. | Link: https://ausschreibungsradar.com/ausschreibung/9077f8d1-268e-4822-a48f-4dbe917c3c9a/
URL:https://ausschreibungsradar.com/ausschreibung/9077f8d1-268e-4822-a48f-4dbe917c3c9a/
END:VEVENT
BEGIN:VEVENT
UID:4135da31386adb8c@ausschreibungsradar.com
DTSTAMP:20260424T095657Z
DTSTART;VALUE=DATE:20250929
DTEND;VALUE=DATE:20250929
SUMMARY:Ausschreibung — Sanierung und Erweiterung Erlebnisbad Senftenberg - Los 25: 
DESCRIPTION:Phase: Ausschreibung | Beschreibung: Offizielle Ausschreibung mit Bieterfrist. | Link: https://ausschreibungsradar.com/ausschreibung/24458574/
URL:https://ausschreibungsradar.com/ausschreibung/24458574/
END:VEVENT
BEGIN:VEVENT
UID:41279e94f2098d10@ausschreibungsradar.com
DTSTAMP:20260424T095657Z
DTSTART;VALUE=DATE:20251208
DTEND;VALUE=DATE:20251208
SUMMARY:Angebotsfrist — Sanierung und Erweiterung Erlebnisbad Senftenberg - Los 25: 
DESCRIPTION:Phase: Ausschreibung | Beschreibung: Angebote werden eingeholt | Link: https://ausschreibungsradar.com/ausschreibung/257ab642-44b6-47d4-9149-9cf4e5fa65c2/
URL:https://ausschreibungsradar.com/ausschreibung/257ab642-44b6-47d4-9149-9cf4e5fa65c2/
END:VEVENT
BEGIN:VEVENT
UID:2e88f207fdf3ba31@ausschreibungsradar.com
DTSTAMP:20260424T095657Z
DTSTART;VALUE=DATE:20251117
DTEND;VALUE=DATE:20251117
SUMMARY:Ausschreibung — Sanierung und Erweiterung Erlebnisbad Senftenberg - Los 25: 
DESCRIPTION:Phase: Ausschreibung | Beschreibung: Offizielle Ausschreibung mit Bieterfrist. | Link: https://ausschreibungsradar.com/ausschreibung/24664470/
URL:https://ausschreibungsradar.com/ausschreibung/24664470/
END:VEVENT
BEGIN:VEVENT
UID:d7f2b632029b2af6@ausschreibungsradar.com
DTSTAMP:20260424T095657Z
DTSTART;VALUE=DATE:20260327
DTEND;VALUE=DATE:20260327
SUMMARY:Vergabeergebnis — Sanierung und Erweiterung Erlebnisbad Senftenberg - Los 25: 
DESCRIPTION:Phase: Vergabeergebnis | Beschreibung: Auftrag wurde zugeschlagen | Link: https://ausschreibungsradar.com/ausschreibung/f7fbcc94-9732-4626-ac35-b98128f945e4/
URL:https://ausschreibungsradar.com/ausschreibung/f7fbcc94-9732-4626-ac35-b98128f945e4/
END:VEVENT
END:VCALENDAR
