BEGIN:VCALENDAR
VERSION:2.0
PRODID:-//AusschreibungsRadar//Timeline//DE
CALSCALE:GREGORIAN
METHOD:PUBLISH
X-WR-CALNAME:Projekt Abfuhr und Entsorgung von verunreinigtem Boden
X-WR-TIMEZONE:Europe/Berlin
BEGIN:VEVENT
UID:1e2a56813bcf5f93@ausschreibungsradar.com
DTSTAMP:20260425T110423Z
DTSTART;VALUE=DATE:20240111
DTEND;VALUE=DATE:20240111
SUMMARY:Angebotsfrist — Abfuhr und Entsorgung von verunreinigtem Boden
DESCRIPTION:Phase: Ausschreibung | Beschreibung: Angebote werden eingeholt | Link: https://ausschreibungsradar.com/ausschreibung/2580beec-2b5d-49fa-9518-126f18db1bc6/ | Geschätzter Wert: 988000 €
URL:https://ausschreibungsradar.com/ausschreibung/2580beec-2b5d-49fa-9518-126f18db1bc6/
END:VEVENT
BEGIN:VEVENT
UID:44f4d66c507e1284@ausschreibungsradar.com
DTSTAMP:20260425T110423Z
DTSTART;VALUE=DATE:20231127
DTEND;VALUE=DATE:20231127
SUMMARY:Ausschreibung — Abfuhr und Entsorgung von verunreinigtem Boden
DESCRIPTION:Phase: Ausschreibung | Beschreibung: Offizielle Ausschreibung mit Bieterfrist. | Link: https://ausschreibungsradar.com/ausschreibung/ted-718726-2023/
URL:https://ausschreibungsradar.com/ausschreibung/ted-718726-2023/
END:VEVENT
BEGIN:VEVENT
UID:76abcfed10623f85@ausschreibungsradar.com
DTSTAMP:20260425T110423Z
DTSTART;VALUE=DATE:20240206
DTEND;VALUE=DATE:20240206
SUMMARY:Vergabeergebnis — Abfuhr und Entsorgung von verunreinigtem Boden
DESCRIPTION:Phase: Vergabeergebnis | Beschreibung: Auftrag wurde zugeschlagen | Link: https://ausschreibungsradar.com/ausschreibung/2d551fab-9f3c-4335-81b0-58d5b9d81b16/ | Geschätzter Wert: 988000 €
URL:https://ausschreibungsradar.com/ausschreibung/2d551fab-9f3c-4335-81b0-58d5b9d81b16/
END:VEVENT
END:VCALENDAR
