BEGIN:VCALENDAR
VERSION:2.0
PRODID:-//AusschreibungsRadar//Timeline//DE
CALSCALE:GREGORIAN
METHOD:PUBLISH
X-WR-CALNAME:Projekt NHST_345.3_Maler u. Lackierarbeiten
X-WR-TIMEZONE:Europe/Berlin
BEGIN:VEVENT
UID:7ed3f74f9a8a8aaf@ausschreibungsradar.com
DTSTAMP:20260424T153412Z
DTSTART;VALUE=DATE:20260309
DTEND;VALUE=DATE:20260309
SUMMARY:Angebotsfrist — NHST_345.3_Maler u. Lackierarbeiten
DESCRIPTION:Phase: Ausschreibung | Beschreibung: Angebote werden eingeholt | Link: https://ausschreibungsradar.com/ausschreibung/264d61c6-c2f6-4d80-96c5-43a0d191cd0d/
URL:https://ausschreibungsradar.com/ausschreibung/264d61c6-c2f6-4d80-96c5-43a0d191cd0d/
END:VEVENT
BEGIN:VEVENT
UID:93292dfd9782ddd6@ausschreibungsradar.com
DTSTAMP:20260424T153412Z
DTSTART;VALUE=DATE:20260323
DTEND;VALUE=DATE:20260323
SUMMARY:Vergabeergebnis — NHST_345.3_Maler u. Lackierarbeiten
DESCRIPTION:Phase: Vergabeergebnis | Beschreibung: Auftrag wurde zugeschlagen | Link: https://ausschreibungsradar.com/ausschreibung/cea98cb8-a5c8-40dd-a5f7-ab14458e6cd6/
URL:https://ausschreibungsradar.com/ausschreibung/cea98cb8-a5c8-40dd-a5f7-ab14458e6cd6/
END:VEVENT
END:VCALENDAR
