BEGIN:VCALENDAR
VERSION:2.0
PRODID:-//AusschreibungsRadar//Timeline//DE
CALSCALE:GREGORIAN
METHOD:PUBLISH
X-WR-CALNAME:Projekt Kundenkontaktmanagement/BPO
X-WR-TIMEZONE:Europe/Berlin
BEGIN:VEVENT
UID:a0f88cb341fb0419@ausschreibungsradar.com
DTSTAMP:20260424T042815Z
DTSTART;VALUE=DATE:20231128
DTEND;VALUE=DATE:20231128
SUMMARY:Ausschreibung — Kundenkontaktmanagement/BPO
DESCRIPTION:Phase: Ausschreibung | Beschreibung: Angebote werden eingeholt | Link: https://ausschreibungsradar.com/ausschreibung/274f2829-e296-40f9-8ad5-b34bec5d5789/
URL:https://ausschreibungsradar.com/ausschreibung/274f2829-e296-40f9-8ad5-b34bec5d5789/
END:VEVENT
BEGIN:VEVENT
UID:cf0c68d4b86b36ce@ausschreibungsradar.com
DTSTAMP:20260424T042815Z
DTSTART;VALUE=DATE:20240621
DTEND;VALUE=DATE:20240621
SUMMARY:Vergabeergebnis — Kundenkontaktmanagement/BPO
DESCRIPTION:Phase: Vergabeergebnis | Beschreibung: Auftrag wurde zugeschlagen | Link: https://ausschreibungsradar.com/ausschreibung/50da0d5a-0acd-4bef-9f86-cb9193246f2f/
URL:https://ausschreibungsradar.com/ausschreibung/50da0d5a-0acd-4bef-9f86-cb9193246f2f/
END:VEVENT
END:VCALENDAR
