BEGIN:VCALENDAR
VERSION:2.0
PRODID:-//AusschreibungsRadar//Timeline//DE
CALSCALE:GREGORIAN
METHOD:PUBLISH
X-WR-CALNAME:Projekt TNW_TWP_Gemeinde Moosthenning_Neubau Kindertagesstätte in Un
X-WR-TIMEZONE:Europe/Berlin
BEGIN:VEVENT
UID:77d78cf46de3cc43@ausschreibungsradar.com
DTSTAMP:20260424T104847Z
DTSTART;VALUE=DATE:20250313
DTEND;VALUE=DATE:20250313
SUMMARY:Ausschreibung — TNW_TWP_Gemeinde Moosthenning_Neubau Kindertagesstätte in Un
DESCRIPTION:Phase: Ausschreibung | Beschreibung: Angebote werden eingeholt | Link: https://ausschreibungsradar.com/ausschreibung/27683b2e-7a2a-4d8d-a2ae-bd6f67e4b45c/
URL:https://ausschreibungsradar.com/ausschreibung/27683b2e-7a2a-4d8d-a2ae-bd6f67e4b45c/
END:VEVENT
BEGIN:VEVENT
UID:6a8507e1459fa6aa@ausschreibungsradar.com
DTSTAMP:20260424T104847Z
DTSTART;VALUE=DATE:20250313
DTEND;VALUE=DATE:20250313
SUMMARY:Ausschreibung — TNW_TWP_Gemeinde Moosthenning_Neubau Kindertagesstätte in Un
DESCRIPTION:Phase: Ausschreibung | Beschreibung: Offizielle Ausschreibung mit Bieterfrist. | Link: https://ausschreibungsradar.com/ausschreibung/b8c6ece9-6b23-4cc3-81c4-abeafd743ee8/
URL:https://ausschreibungsradar.com/ausschreibung/b8c6ece9-6b23-4cc3-81c4-abeafd743ee8/
END:VEVENT
BEGIN:VEVENT
UID:72ab6d37f67e2d28@ausschreibungsradar.com
DTSTAMP:20260424T104847Z
DTSTART;VALUE=DATE:20250313
DTEND;VALUE=DATE:20250313
SUMMARY:Ausschreibung — TNW_TWP_Gemeinde Moosthenning_Neubau Kindertagesstätte in Un
DESCRIPTION:Phase: Ausschreibung | Beschreibung: Offizielle Ausschreibung mit Bieterfrist. | Link: https://ausschreibungsradar.com/ausschreibung/73fa4637-cd07-4abd-946a-7d0db9e37048/
URL:https://ausschreibungsradar.com/ausschreibung/73fa4637-cd07-4abd-946a-7d0db9e37048/
END:VEVENT
BEGIN:VEVENT
UID:f6835b076822beae@ausschreibungsradar.com
DTSTAMP:20260424T104847Z
DTSTART;VALUE=DATE:20250313
DTEND;VALUE=DATE:20250313
SUMMARY:Ausschreibung — TNW_TWP_Gemeinde Moosthenning_Neubau Kindertagesstätte in Un
DESCRIPTION:Phase: Ausschreibung | Beschreibung: Offizielle Ausschreibung mit Bieterfrist. | Link: https://ausschreibungsradar.com/ausschreibung/6f37a142-9676-49a7-87b3-f93af0dac632/
URL:https://ausschreibungsradar.com/ausschreibung/6f37a142-9676-49a7-87b3-f93af0dac632/
END:VEVENT
BEGIN:VEVENT
UID:d34a53dfd67c7998@ausschreibungsradar.com
DTSTAMP:20260424T104847Z
DTSTART;VALUE=DATE:20250717
DTEND;VALUE=DATE:20250717
SUMMARY:Vergabeergebnis — TNW_TWP_Gemeinde Moosthenning_Neubau Kindertagesstätte in Un
DESCRIPTION:Phase: Vergabeergebnis | Beschreibung: Auftrag wurde zugeschlagen | Link: https://ausschreibungsradar.com/ausschreibung/b492f9cf-d121-4278-b03a-ca94a0aafbeb/
URL:https://ausschreibungsradar.com/ausschreibung/b492f9cf-d121-4278-b03a-ca94a0aafbeb/
END:VEVENT
END:VCALENDAR
