BEGIN:VCALENDAR
VERSION:2.0
PRODID:-//AusschreibungsRadar//Timeline//DE
CALSCALE:GREGORIAN
METHOD:PUBLISH
X-WR-CALNAME:Projekt Ingenieurleistungen für Verkehrsanlagen
X-WR-TIMEZONE:Europe/Berlin
BEGIN:VEVENT
UID:fceb30e7db5239da@ausschreibungsradar.com
DTSTAMP:20260425T102525Z
DTSTART;VALUE=DATE:20250922
DTEND;VALUE=DATE:20250922
SUMMARY:Angebotsfrist — Ingenieurleistungen für Verkehrsanlagen
DESCRIPTION:Phase: Ausschreibung | Beschreibung: Angebote werden eingeholt | Link: https://ausschreibungsradar.com/ausschreibung/27d02db3-4859-48c9-9b92-3daae86d7a6f/
URL:https://ausschreibungsradar.com/ausschreibung/27d02db3-4859-48c9-9b92-3daae86d7a6f/
END:VEVENT
BEGIN:VEVENT
UID:237aa4dda95279af@ausschreibungsradar.com
DTSTAMP:20260425T102525Z
DTSTART;VALUE=DATE:20251024
DTEND;VALUE=DATE:20251024
SUMMARY:Vergabeergebnis — Ingenieurleistungen für Verkehrsanlagen
DESCRIPTION:Phase: Vergabeergebnis | Beschreibung: Auftrag wurde zugeschlagen | Link: https://ausschreibungsradar.com/ausschreibung/c543d6e9-2c06-4f2a-ba12-6f0845b23081/
URL:https://ausschreibungsradar.com/ausschreibung/c543d6e9-2c06-4f2a-ba12-6f0845b23081/
END:VEVENT
END:VCALENDAR
