BEGIN:VCALENDAR
VERSION:2.0
PRODID:-//AusschreibungsRadar//Timeline//DE
CALSCALE:GREGORIAN
METHOD:PUBLISH
X-WR-CALNAME:Projekt Neubau einer Kultur- und Sporthalle (KulTurnhalle), Elektroa
X-WR-TIMEZONE:Europe/Berlin
BEGIN:VEVENT
UID:0b0d2962262a8158@ausschreibungsradar.com
DTSTAMP:20260424T080721Z
DTSTART;VALUE=DATE:20260312
DTEND;VALUE=DATE:20260312
SUMMARY:Ausschreibung — Neubau einer Kultur- und Sporthalle (KulTurnhalle)\, Elektroa
DESCRIPTION:Phase: Ausschreibung | Beschreibung: Offizielle Ausschreibung mit Bieterfrist. | Link: https://ausschreibungsradar.com/ausschreibung/bda384de-0678-40f2-90a5-3ca2ada3d938/
URL:https://ausschreibungsradar.com/ausschreibung/bda384de-0678-40f2-90a5-3ca2ada3d938/
END:VEVENT
BEGIN:VEVENT
UID:91186408201e0a58@ausschreibungsradar.com
DTSTAMP:20260424T080721Z
DTSTART;VALUE=DATE:20260317
DTEND;VALUE=DATE:20260317
SUMMARY:Ausschreibung — Neubau einer Kultur- und Sporthalle (KulTurnhalle)\, Elektroa
DESCRIPTION:Phase: Ausschreibung | Beschreibung: Offizielle Ausschreibung mit Bieterfrist. | Link: https://ausschreibungsradar.com/ausschreibung/2ce96379-395e-4394-ada7-d4b753884be3/
URL:https://ausschreibungsradar.com/ausschreibung/2ce96379-395e-4394-ada7-d4b753884be3/
END:VEVENT
BEGIN:VEVENT
UID:b7efb24c8aaf12b1@ausschreibungsradar.com
DTSTAMP:20260424T080721Z
DTSTART;VALUE=DATE:20260423
DTEND;VALUE=DATE:20260423
SUMMARY:Angebotsfrist — Neubau einer Kultur- und Sporthalle (KulTurnhalle)\, Elektroa
DESCRIPTION:Phase: Ausschreibung | Beschreibung: Angebote werden eingeholt | Link: https://ausschreibungsradar.com/ausschreibung/27efe47f-6e8a-4f42-bd66-e53bb068023b/
URL:https://ausschreibungsradar.com/ausschreibung/27efe47f-6e8a-4f42-bd66-e53bb068023b/
END:VEVENT
BEGIN:VEVENT
UID:6eab7f5d8160e77a@ausschreibungsradar.com
DTSTAMP:20260424T080721Z
DTSTART;VALUE=DATE:20260330
DTEND;VALUE=DATE:20260330
SUMMARY:Zuschlag — Neubau einer Kultur- und Sporthalle (KulTurnhalle)\, Elektroa
DESCRIPTION:Phase: Zuschlag | Beschreibung: Vergabeergebnis — Auftrag wurde erteilt oder Verfahren beendet. | Link: https://ausschreibungsradar.com/ausschreibung/ab8c9bd7-17f4-40ed-9f00-9e6672e29175/
URL:https://ausschreibungsradar.com/ausschreibung/ab8c9bd7-17f4-40ed-9f00-9e6672e29175/
END:VEVENT
BEGIN:VEVENT
UID:3a3805adf8318c70@ausschreibungsradar.com
DTSTAMP:20260424T080721Z
DTSTART;VALUE=DATE:20260330
DTEND;VALUE=DATE:20260330
SUMMARY:Zuschlag — Neubau einer Kultur- und Sporthalle (KulTurnhalle)\, Elektroa
DESCRIPTION:Phase: Zuschlag | Beschreibung: Vergabeergebnis — Auftrag wurde erteilt oder Verfahren beendet. | Link: https://ausschreibungsradar.com/ausschreibung/25178006/
URL:https://ausschreibungsradar.com/ausschreibung/25178006/
END:VEVENT
BEGIN:VEVENT
UID:7cf925b296cfd2e7@ausschreibungsradar.com
DTSTAMP:20260424T080721Z
DTSTART;VALUE=DATE:20260414
DTEND;VALUE=DATE:20260414
SUMMARY:Ausschreibung — Neubau einer Kultur- und Sporthalle (KulTurnhalle)\, Elektroa
DESCRIPTION:Phase: Ausschreibung | Beschreibung: Offizielle Ausschreibung mit Bieterfrist. | Link: https://ausschreibungsradar.com/ausschreibung/25230830/
URL:https://ausschreibungsradar.com/ausschreibung/25230830/
END:VEVENT
END:VCALENDAR
