BEGIN:VCALENDAR
VERSION:2.0
PRODID:-//AusschreibungsRadar//Timeline//DE
CALSCALE:GREGORIAN
METHOD:PUBLISH
X-WR-CALNAME:Projekt Holzrahmenbau - Sanierung und Erweiterung Wohnheim Thomas Mü
X-WR-TIMEZONE:Europe/Berlin
BEGIN:VEVENT
UID:714b701a619753cd@ausschreibungsradar.com
DTSTAMP:20260425T102615Z
DTSTART;VALUE=DATE:20250828
DTEND;VALUE=DATE:20250828
SUMMARY:Angebotsfrist — Holzrahmenbau - Sanierung und Erweiterung Wohnheim Thomas Mü
DESCRIPTION:Phase: Ausschreibung | Beschreibung: Angebote werden eingeholt | Link: https://ausschreibungsradar.com/ausschreibung/6d24796e-271c-4361-b5f6-6d6d18e5f25b/
URL:https://ausschreibungsradar.com/ausschreibung/6d24796e-271c-4361-b5f6-6d6d18e5f25b/
END:VEVENT
BEGIN:VEVENT
UID:5d74df01201490ba@ausschreibungsradar.com
DTSTAMP:20260425T102615Z
DTSTART;VALUE=DATE:20250923
DTEND;VALUE=DATE:20250923
SUMMARY:Ausschreibung — Holzrahmenbau - Sanierung und Erweiterung Wohnheim Thomas Mü
DESCRIPTION:Phase: Ausschreibung | Beschreibung: Offizielle Ausschreibung mit Bieterfrist. | Link: https://ausschreibungsradar.com/ausschreibung/aa010e4c-2698-4e4e-b0ed-9a6508860466/
URL:https://ausschreibungsradar.com/ausschreibung/aa010e4c-2698-4e4e-b0ed-9a6508860466/
END:VEVENT
BEGIN:VEVENT
UID:c0f068b091e56ce4@ausschreibungsradar.com
DTSTAMP:20260425T102615Z
DTSTART;VALUE=DATE:20251017
DTEND;VALUE=DATE:20251017
SUMMARY:Vergabeergebnis — Holzrahmenbau - Sanierung und Erweiterung Wohnheim Thomas Mü
DESCRIPTION:Phase: Vergabeergebnis | Beschreibung: Auftrag wurde zugeschlagen | Link: https://ausschreibungsradar.com/ausschreibung/27fc833e-cdb3-4370-9adc-3a3d3b62f8cc/
URL:https://ausschreibungsradar.com/ausschreibung/27fc833e-cdb3-4370-9adc-3a3d3b62f8cc/
END:VEVENT
BEGIN:VEVENT
UID:6fda0a42a93bab6c@ausschreibungsradar.com
DTSTAMP:20260425T102615Z
DTSTART;VALUE=DATE:20251110
DTEND;VALUE=DATE:20251110
SUMMARY:Zuschlag — Holzrahmenbau - Sanierung und Erweiterung Wohnheim Thomas Mü
DESCRIPTION:Phase: Zuschlag | Beschreibung: Vergabeergebnis — Auftrag wurde erteilt oder Verfahren beendet. | Link: https://ausschreibungsradar.com/ausschreibung/f23d0c93-6bcd-4f8d-a60e-a355947b4399/
URL:https://ausschreibungsradar.com/ausschreibung/f23d0c93-6bcd-4f8d-a60e-a355947b4399/
END:VEVENT
END:VCALENDAR
