BEGIN:VCALENDAR
VERSION:2.0
PRODID:-//AusschreibungsRadar//Timeline//DE
CALSCALE:GREGORIAN
METHOD:PUBLISH
X-WR-CALNAME:Projekt Ergänzungsbauten (1. BA) am Standort Redoute für das Deutsch
X-WR-TIMEZONE:Europe/Berlin
BEGIN:VEVENT
UID:d07a37da635535e8@ausschreibungsradar.com
DTSTAMP:20260424T155130Z
DTSTART;VALUE=DATE:20241120
DTEND;VALUE=DATE:20241120
SUMMARY:Ausschreibung — Ergänzungsbauten (1. BA) am Standort Redoute für das Deutsch
DESCRIPTION:Phase: Ausschreibung | Beschreibung: Angebote werden eingeholt | Link: https://ausschreibungsradar.com/ausschreibung/288f1b61-e5b8-40d9-99cb-7361ca243f3a/
URL:https://ausschreibungsradar.com/ausschreibung/288f1b61-e5b8-40d9-99cb-7361ca243f3a/
END:VEVENT
BEGIN:VEVENT
UID:5cbcd8691eca80ef@ausschreibungsradar.com
DTSTAMP:20260424T155130Z
DTSTART;VALUE=DATE:20241120
DTEND;VALUE=DATE:20241120
SUMMARY:Ausschreibung — Ergänzungsbauten (1. BA) am Standort Redoute für das Deutsch
DESCRIPTION:Phase: Ausschreibung | Beschreibung: Offizielle Ausschreibung mit Bieterfrist. | Link: https://ausschreibungsradar.com/ausschreibung/8aa41e0a-34c4-4aad-a510-2074d6d68687/
URL:https://ausschreibungsradar.com/ausschreibung/8aa41e0a-34c4-4aad-a510-2074d6d68687/
END:VEVENT
BEGIN:VEVENT
UID:0170eb5d35fd15db@ausschreibungsradar.com
DTSTAMP:20260424T155130Z
DTSTART;VALUE=DATE:20241120
DTEND;VALUE=DATE:20241120
SUMMARY:Ausschreibung — Ergänzungsbauten (1. BA) am Standort Redoute für das Deutsch
DESCRIPTION:Phase: Ausschreibung | Beschreibung: Offizielle Ausschreibung mit Bieterfrist. | Link: https://ausschreibungsradar.com/ausschreibung/261523cb-fcc3-4330-8a7d-cd09d0e3b2c0/
URL:https://ausschreibungsradar.com/ausschreibung/261523cb-fcc3-4330-8a7d-cd09d0e3b2c0/
END:VEVENT
BEGIN:VEVENT
UID:af74dff8dbb8f27a@ausschreibungsradar.com
DTSTAMP:20260424T155130Z
DTSTART;VALUE=DATE:20250620
DTEND;VALUE=DATE:20250620
SUMMARY:Vergabeergebnis — Ergänzungsbauten (1. BA) am Standort Redoute für das Deutsch
DESCRIPTION:Phase: Vergabeergebnis | Beschreibung: Auftrag wurde zugeschlagen | Link: https://ausschreibungsradar.com/ausschreibung/5a282df0-9130-4374-a9bd-c9fa34a8fb3d/ | Auftragnehmer: Schettler & Partner PartG
URL:https://ausschreibungsradar.com/ausschreibung/5a282df0-9130-4374-a9bd-c9fa34a8fb3d/
END:VEVENT
BEGIN:VEVENT
UID:ebee1dfb7c936983@ausschreibungsradar.com
DTSTAMP:20260424T155130Z
DTSTART;VALUE=DATE:20250620
DTEND;VALUE=DATE:20250620
SUMMARY:Zuschlag — Ergänzungsbauten (1. BA) am Standort Redoute für das Deutsch
DESCRIPTION:Phase: Zuschlag | Beschreibung: Vergabeergebnis — Auftrag wurde erteilt oder Verfahren beendet. | Link: https://ausschreibungsradar.com/ausschreibung/625aaa6d-488e-4e29-87c3-2609a3bc0480/
URL:https://ausschreibungsradar.com/ausschreibung/625aaa6d-488e-4e29-87c3-2609a3bc0480/
END:VEVENT
BEGIN:VEVENT
UID:fbe3b3c7e5ed3674@ausschreibungsradar.com
DTSTAMP:20260424T155130Z
DTSTART;VALUE=DATE:20250620
DTEND;VALUE=DATE:20250620
SUMMARY:Zuschlag — Ergänzungsbauten (1. BA) am Standort Redoute für das Deutsch
DESCRIPTION:Phase: Zuschlag | Beschreibung: Vergabeergebnis — Auftrag wurde erteilt oder Verfahren beendet. | Link: https://ausschreibungsradar.com/ausschreibung/a31209d6-8245-4240-bb4c-148ba526966b/
URL:https://ausschreibungsradar.com/ausschreibung/a31209d6-8245-4240-bb4c-148ba526966b/
END:VEVENT
END:VCALENDAR
