BEGIN:VCALENDAR
VERSION:2.0
PRODID:-//AusschreibungsRadar//Timeline//DE
CALSCALE:GREGORIAN
METHOD:PUBLISH
X-WR-CALNAME:Projekt Implementierung eines intelligenten Heizungsmanagementsystem
X-WR-TIMEZONE:Europe/Berlin
BEGIN:VEVENT
UID:3f003aff4a5c7093@ausschreibungsradar.com
DTSTAMP:20260425T162700Z
DTSTART;VALUE=DATE:20250318
DTEND;VALUE=DATE:20250318
SUMMARY:Angebotsfrist — Implementierung eines intelligenten Heizungsmanagementsystem
DESCRIPTION:Phase: Ausschreibung | Beschreibung: Angebote werden eingeholt | Link: https://ausschreibungsradar.com/ausschreibung/28a207d0-65af-4e46-9023-541a16bf1053/
URL:https://ausschreibungsradar.com/ausschreibung/28a207d0-65af-4e46-9023-541a16bf1053/
END:VEVENT
END:VCALENDAR
