BEGIN:VCALENDAR
VERSION:2.0
PRODID:-//AusschreibungsRadar//Timeline//DE
CALSCALE:GREGORIAN
METHOD:PUBLISH
X-WR-CALNAME:Projekt Nürnberg, Regensburger Str. 104, Bewegungsmelder
X-WR-TIMEZONE:Europe/Berlin
BEGIN:VEVENT
UID:7b3944db115528fe@ausschreibungsradar.com
DTSTAMP:20260425T211327Z
DTSTART;VALUE=DATE:20250113
DTEND;VALUE=DATE:20250113
SUMMARY:Angebotsfrist — Nürnberg\, Regensburger Str. 104\, Bewegungsmelder
DESCRIPTION:Phase: Ausschreibung | Beschreibung: Angebote werden eingeholt | Link: https://ausschreibungsradar.com/ausschreibung/28b725fc-184f-4af1-aabb-3441e0d385fc/ | Geschätzter Wert: 368000 €
URL:https://ausschreibungsradar.com/ausschreibung/28b725fc-184f-4af1-aabb-3441e0d385fc/
END:VEVENT
BEGIN:VEVENT
UID:009ffb256cc91a51@ausschreibungsradar.com
DTSTAMP:20260425T211327Z
DTSTART;VALUE=DATE:20241217
DTEND;VALUE=DATE:20241217
SUMMARY:Zuschlag — Nürnberg\, Regensburger Str. 104\, Bewegungsmelder
DESCRIPTION:Phase: Zuschlag | Beschreibung: Vergabeergebnis — Auftrag wurde erteilt oder Verfahren beendet. | Link: https://ausschreibungsradar.com/ausschreibung/418eabca-fc14-46a0-8641-00acb72f672f/
URL:https://ausschreibungsradar.com/ausschreibung/418eabca-fc14-46a0-8641-00acb72f672f/
END:VEVENT
BEGIN:VEVENT
UID:56b880120d2eb5f9@ausschreibungsradar.com
DTSTAMP:20260425T211327Z
DTSTART;VALUE=DATE:20250128
DTEND;VALUE=DATE:20250128
SUMMARY:Vergabeergebnis — Nürnberg\, Regensburger Str. 104\, Bewegungsmelder
DESCRIPTION:Phase: Vergabeergebnis | Beschreibung: Auftrag wurde zugeschlagen | Link: https://ausschreibungsradar.com/ausschreibung/62b8d2d4-6e02-4b4d-863b-ef228cdd1049/ | Geschätzter Wert: 368000 €
URL:https://ausschreibungsradar.com/ausschreibung/62b8d2d4-6e02-4b4d-863b-ef228cdd1049/
END:VEVENT
END:VCALENDAR
