BEGIN:VCALENDAR
VERSION:2.0
PRODID:-//AusschreibungsRadar//Timeline//DE
CALSCALE:GREGORIAN
METHOD:PUBLISH
X-WR-CALNAME:Projekt Main-Kinzig-Kreis - Losweise Vergabe von Grundschulbetreuung
X-WR-TIMEZONE:Europe/Berlin
BEGIN:VEVENT
UID:285f7ee0855f5d10@ausschreibungsradar.com
DTSTAMP:20260425T123428Z
DTSTART;VALUE=DATE:20260417
DTEND;VALUE=DATE:20260417
SUMMARY:Ausschreibung — Main-Kinzig-Kreis - Losweise Vergabe von Grundschulbetreuung
DESCRIPTION:Phase: Ausschreibung | Beschreibung: Offizielle Ausschreibung mit Bieterfrist. | Link: https://ausschreibungsradar.com/ausschreibung/2966eedd-158f-4c19-86e6-289e183f7ca8/
URL:https://ausschreibungsradar.com/ausschreibung/2966eedd-158f-4c19-86e6-289e183f7ca8/
END:VEVENT
BEGIN:VEVENT
UID:721c09236f86efc7@ausschreibungsradar.com
DTSTAMP:20260425T123428Z
DTSTART;VALUE=DATE:20260420
DTEND;VALUE=DATE:20260420
SUMMARY:Ausschreibung — Main-Kinzig-Kreis - Losweise Vergabe von Grundschulbetreuung
DESCRIPTION:Phase: Ausschreibung | Beschreibung: Offizielle Ausschreibung mit Bieterfrist. | Link: https://ausschreibungsradar.com/ausschreibung/ted-267464-2026/
URL:https://ausschreibungsradar.com/ausschreibung/ted-267464-2026/
END:VEVENT
END:VCALENDAR
