BEGIN:VCALENDAR
VERSION:2.0
PRODID:-//AusschreibungsRadar//Timeline//DE
CALSCALE:GREGORIAN
METHOD:PUBLISH
X-WR-CALNAME:Projekt Erweiterungsbau Offene Ganztagsgrundschule  -  Fachplanung T
X-WR-TIMEZONE:Europe/Berlin
BEGIN:VEVENT
UID:0d2bc3d3aeb5f724@ausschreibungsradar.com
DTSTAMP:20260424T223918Z
DTSTART;VALUE=DATE:20250728
DTEND;VALUE=DATE:20250728
SUMMARY:Zuschlag — Erweiterungsbau Offene Ganztagsgrundschule  -  Fachplanung T
DESCRIPTION:Phase: Zuschlag | Beschreibung: Vergabeergebnis — Auftrag wurde erteilt oder Verfahren beendet. | Link: https://ausschreibungsradar.com/ausschreibung/2a2f214f-be5b-469d-8207-c852d142ae34/ | Geschätzte
URL:https://ausschreibungsradar.com/ausschreibung/2a2f214f-be5b-469d-8207-c852d142ae34/
END:VEVENT
BEGIN:VEVENT
UID:cc9fd7113f52a92b@ausschreibungsradar.com
DTSTAMP:20260424T223918Z
DTSTART;VALUE=DATE:20250801
DTEND;VALUE=DATE:20250801
SUMMARY:Zuschlag — Erweiterungsbau Offene Ganztagsgrundschule  -  Fachplanung T
DESCRIPTION:Phase: Zuschlag | Beschreibung: Vergabeergebnis — Auftrag wurde erteilt oder Verfahren beendet. | Link: https://ausschreibungsradar.com/ausschreibung/e75ce437-8832-4533-8448-2833987067f7/
URL:https://ausschreibungsradar.com/ausschreibung/e75ce437-8832-4533-8448-2833987067f7/
END:VEVENT
END:VCALENDAR
