BEGIN:VCALENDAR
VERSION:2.0
PRODID:-//AusschreibungsRadar//Timeline//DE
CALSCALE:GREGORIAN
METHOD:PUBLISH
X-WR-CALNAME:Projekt Stadthalle Zeulenroda-VE_304 Rohbau massiv
X-WR-TIMEZONE:Europe/Berlin
BEGIN:VEVENT
UID:fbaf45eb37cc0ba0@ausschreibungsradar.com
DTSTAMP:20260425T142846Z
DTSTART;VALUE=DATE:20260316
DTEND;VALUE=DATE:20260316
SUMMARY:Angebotsfrist — Stadthalle Zeulenroda-VE_304 Rohbau massiv
DESCRIPTION:Phase: Ausschreibung | Beschreibung: Angebote werden eingeholt | Link: https://ausschreibungsradar.com/ausschreibung/2bc75cba-ada1-4078-83ee-e0b7b810e7fa/
URL:https://ausschreibungsradar.com/ausschreibung/2bc75cba-ada1-4078-83ee-e0b7b810e7fa/
END:VEVENT
END:VCALENDAR
