BEGIN:VCALENDAR
VERSION:2.0
PRODID:-//AusschreibungsRadar//Timeline//DE
CALSCALE:GREGORIAN
METHOD:PUBLISH
X-WR-CALNAME:Projekt AE - Teilneubau der Grundschule Groß Berkel - Rohbauarbeiten
X-WR-TIMEZONE:Europe/Berlin
BEGIN:VEVENT
UID:89713e273756fd1b@ausschreibungsradar.com
DTSTAMP:20260425T112424Z
DTSTART;VALUE=DATE:20241022
DTEND;VALUE=DATE:20241022
SUMMARY:Angebotsfrist — AE - Teilneubau der Grundschule Groß Berkel - Rohbauarbeiten
DESCRIPTION:Phase: Ausschreibung | Beschreibung: Angebote werden eingeholt | Link: https://ausschreibungsradar.com/ausschreibung/10d45153-f0e5-4696-a432-9bb60da3090f/
URL:https://ausschreibungsradar.com/ausschreibung/10d45153-f0e5-4696-a432-9bb60da3090f/
END:VEVENT
BEGIN:VEVENT
UID:01098e69696e20d3@ausschreibungsradar.com
DTSTAMP:20260425T112424Z
DTSTART;VALUE=DATE:20241127
DTEND;VALUE=DATE:20241127
SUMMARY:Vergabeergebnis — AE - Teilneubau der Grundschule Groß Berkel - Rohbauarbeiten
DESCRIPTION:Phase: Vergabeergebnis | Beschreibung: Auftrag wurde zugeschlagen | Link: https://ausschreibungsradar.com/ausschreibung/2d4bfd2f-b682-45bf-af1a-c9d10fd2b665/
URL:https://ausschreibungsradar.com/ausschreibung/2d4bfd2f-b682-45bf-af1a-c9d10fd2b665/
END:VEVENT
BEGIN:VEVENT
UID:9487b2f1a376f765@ausschreibungsradar.com
DTSTAMP:20260425T112424Z
DTSTART;VALUE=DATE:20241206
DTEND;VALUE=DATE:20241206
SUMMARY:Ausschreibung — AE - Teilneubau der Grundschule Groß Berkel - Rohbauarbeiten
DESCRIPTION:Phase: Ausschreibung | Beschreibung: Offizielle Ausschreibung mit Bieterfrist. | Link: https://ausschreibungsradar.com/ausschreibung/11dfffb6-d672-4916-b849-55d5a9a3141c/
URL:https://ausschreibungsradar.com/ausschreibung/11dfffb6-d672-4916-b849-55d5a9a3141c/
END:VEVENT
BEGIN:VEVENT
UID:4aa37c5b8f37720b@ausschreibungsradar.com
DTSTAMP:20260425T112424Z
DTSTART;VALUE=DATE:20241216
DTEND;VALUE=DATE:20241216
SUMMARY:Zuschlag — AE - Teilneubau der Grundschule Groß Berkel - Rohbauarbeiten
DESCRIPTION:Phase: Zuschlag | Beschreibung: Vergabeergebnis — Auftrag wurde erteilt oder Verfahren beendet. | Link: https://ausschreibungsradar.com/ausschreibung/ce8c7536-807c-4f0f-ac5b-c95f07080d1f/
URL:https://ausschreibungsradar.com/ausschreibung/ce8c7536-807c-4f0f-ac5b-c95f07080d1f/
END:VEVENT
END:VCALENDAR
